{"text_format":"1","workbook":"xlsx","n_sheets":3,"sheets":["Data Analysis List","Sheet1","Sheet2"],"not_rendered":{"charts":0,"images":0,"macros":1,"external_links":0,"defined_names":10,"comments":0,"pivot_tables":0},"unopened":[],"bounds":{"document_bytes":16777216,"sheet_cells":100000,"rows_first":2000,"rows_last":500,"rows_between":2000,"halvings":0,"cell_chars":16384,"cell_head_chars":4096},"cells_cut":0,"cells_raw":0,"read":"whole","date_system":"1900"}

{"sheet":"Data Analysis List","index":0,"n_rows":800,"n_cols":56,"rows_kept":800,"cut":false,"hidden":false,"merged":[]}
["ID",1034,{"$f":"VLOOKUP($B$1,DataOnly,3,FALSE)","v":"Harzewski"}]
[null,null,{"$f":"VLOOKUP($B$1,DataOnly,5,FALSE)","v":"531-65-7984"}]
[null,null,{"$f":"VLOOKUP($B$1,DataOnly,12,FALSE)","v":"Finance"}]
[]
[]
[]
["Employee ID","FirstName","LastName","MI","SSN","Title","Address","City","State","Zip Code","Home Phone","Department","Birth Date","Hire Date","Salary"]
[1003,"George","Welch","R","965-13-2498","Engineer","77 Boylston Street","Springfield","MA","01104","781-7320","Engineering",{"$f":"(YEAR(TODAY()-YEAR(Sheet1!B56)))+Sheet1!B56-365*3","v":"1954-01-01"},{"$f":"(YEAR(TODAY()-YEAR(Sheet1!C56))/1000*365)+Sheet1!C56+(365*2)","v":"2014-09-25T00:21:36"},28500]
[1057,"Alan","Orrantia",null,"241-54-5646","Engineer","120 Maple Street","Springfield","MA","01105","737-8192","Engineering",{"$f":"(YEAR(TODAY()-YEAR(Sheet1!B71)))+Sheet1!B71-365*3","v":"1968-08-27"},{"$f":"(YEAR(TODAY()-YEAR(Sheet1!C71))/1000*365)+Sheet1!C71+(365*2)","v":"2014-09-23T00:21:36"},35000]
[1080,"Almut","Wright",null,"132-48-6574","Engineer","1751 Westover Road","Chicopee Falls","MA","01020-2816","593-5966","Engineering",{"$f":"(YEAR(TODAY()-YEAR(Sheet1!B79)))+Sheet1!B79-365*3","v":"1973-10-21"},{"$f":"(YEAR(TODAY()-YEAR(Sheet1!C79))/1000*365)+Sheet1!C79+(365*2)","v":"2013-06-03T00:21:36"},32000]
[1096,"Robert","Robbins","R","321-65-4326","Engineer","16 Center Street","Northampton","MA","01060","584-8424","Engineering",{"$f":"(YEAR(TODAY()-YEAR(Sheet1!B95)))+Sheet1!B95-365*3","v":"1976-06-30"},{"$f":"(YEAR(TODAY()-YEAR(Sheet1!C95))/1000*365)+Sheet1!C95+(365*2)","v":"2010-12-06T00:21:36"},40500]
[1121,"Tamara","Serio",null,"657-65-1324","Engineer","1500 Main Street, Suite 2108","Springfield","MA","01115","739-6931","Engineering",{"$f":"(YEAR(TODAY()-YEAR(Sheet1!B120)))+Sheet1!B120-365*3","v":"1981-04-16"},{"$f":"(YEAR(TODAY()-YEAR(Sheet1!C120))/1000*365)+Sheet1!C120+(365*2)","v":"2013-02-26T00:21:36"},33000]
[1126,"Nicholas","Bernhardt","S","321-65-4655","Engineer","1233 Westfield Street","W. Springfield","MA","01089","737-0300","Engineering",{"$f":"(YEAR(TODAY()-YEAR(Sheet1!B125)))+Sheet1!B125-365*3","v":"1982-02-17"},{"$f":"(YEAR(TODAY()-YEAR(Sheet1!C125))/1000*365)+Sheet1!C125+(365*2)","v":"2011-10-18T00:21:36"},40500]
[1128,"Bob","Wills",null,"135-43-2165","Engineer","330 Whitney Avenue, Suite 650","Holyoke","MA","01040","535-1900","Engineering",{"$f":"(YEAR(TODAY()-YEAR(Sheet1!B127)))+Sheet1!B127-365*3","v":"1982-04-15"},{"$f":"(YEAR(TODAY()-YEAR(Sheet1!C127))/1000*365)+Sheet1!C127+(365*2)","v":"2013-04-15T00:21:36"},32000]
[1138,"Elizabeth","Anair, Jr.",null,"613-21-3213","Engineer","20 Rupert Street","Springfield","MA","01108","594-2222","Engineering",{"$f":"(YEAR(TODAY()-YEAR(Sheet1!B169)))+Sheet1!B169-365*3","v":"1984-04-27"},{"$f":"(YEAR(TODAY()-YEAR(Sheet1!C169))/1000*365)+Sheet1!C169+(365*2)","v":"2014-02-24T00:21:36"},33000,null,null,{"$f":"2016-2003","v":13}]
[1143,"Lisa","Magnacca",null,"843-21-3214","Engineer","1200 Main Street, Room 609","Springfield","MA","01103","734-8263","Engineering",{"$f":"(YEAR(TODAY()-YEAR(Sheet1!B142)))+Sheet1!B142-365*3","v":"1984-08-06"},{"$f":"(YEAR(TODAY()-YEAR(Sheet1!C142))/1000*365)+Sheet1!C142+(365*2)","v":"2010-04-10T00:21:36"},26000]
[1147,"Guy","Martin","M","654-16-5798","Vice President","94 State Street","Springfield","MA","01103","787-0700","Engineering",{"$f":"(YEAR(TODAY()-YEAR(Sheet1!B166)))+Sheet1!B166-365*3","v":"1986-03-02"},{"$f":"(YEAR(TODAY()-YEAR(Sheet1!C166))/1000*365)+Sheet1!C166+(365*2)","v":"2014-03-04T00:21:36"},55000]
[1163,"Jeffrey","Mead",null,"324-76-5432","Engineer","1218 Westfield","W. Springfield","MA","01089","732-0471","Engineering",{"$f":"(YEAR(TODAY()-YEAR(Sheet1!B162)))+Sheet1!B162-365*3","v":"1988-06-20"},{"$f":"(YEAR(TODAY()-YEAR(Sheet1!C162))/1000*365)+Sheet1!C162+(365*2)","v":"2011-07-05T00:21:36"},40500]
[1187,"Karen","Longe",null,"657-46-8478","Engineer","1964 Boston Road","Wilbraham","MA","01095","543-6652","Engineering",{"$f":"(YEAR(TODAY()-YEAR(Sheet1!B184)))+Sheet1!B184-365*3","v":"1992-12-05"},{"$f":"(YEAR(TODAY()-YEAR(Sheet1!C184))/1000*365)+Sheet1!C184+(365*2)","v":"2013-05-28T00:21:36"},33000]
[1208,"Patrick","Baksmaty","C","216-54-6432","Chief Engineer","1341 Main Street","Springfield","MA","01103","781-5700","Engineering",{"$f":"(YEAR(TODAY()-YEAR(Sheet1!B45)))+Sheet1!B45-365*3","v":"1996-02-18"},{"$f":"(YEAR(TODAY()-YEAR(Sheet1!C45))/1000*365)+Sheet1!C45+(365*2)","v":"2014-10-15T00:21:36"},35000]
[1002,"April","Lawforme",null,"321-34-6654","Accountant","56 Main Street","Northampton","MA","01060","584-2107","Finance",{"$f":"(YEAR(TODAY()-YEAR(Sheet1!B3)))+Sheet1!B3-365*3","v":"1953-11-29"},{"$f":"(YEAR(TODAY()-YEAR(Sheet1!C3))/1000*365)+Sheet1!C3+(365*2)","v":"2010-05-20T00:21:36"},40500]
[1011,"Susan","Morray","P","321-13-2013","Line Worker","1380 Main Street","Springfield","MA","01103-1616","781-5184","Finance",{"$f":"(YEAR(TODAY()-YEAR(Sheet1!B24)))+Sheet1!B24-365*3","v":"1956-09-12"},{"$f":"(YEAR(TODAY()-YEAR(Sheet1!C24))/1000*365)+Sheet1!C24+(365*2)","v":"2010-09-10T00:21:36"},40500]
[1013,"Natalie","Black","B","032-79-8794","Accountant","38 Main Street","Northampton","MA","01060-3153","584-6984","Finance",{"$f":"(YEAR(TODAY()-YEAR(Sheet1!B14)))+Sheet1!B14-365*3","v":"1957-04-05"},{"$f":"(YEAR(TODAY()-YEAR(Sheet1!C14))/1000*365)+Sheet1!C14+(365*2)","v":"2013-03-17T00:21:36"},31000]
[1015,"Magdalena","Cross","D","654-65-1321","Accountant","111 Pleasant Street","Northampton","MA","01060","584-0481","Finance",{"$f":"(YEAR(TODAY()-YEAR(Sheet1!B16)))+Sheet1!B16-365*3","v":"1957-10-23"},{"$f":"(YEAR(TODAY()-YEAR(Sheet1!C16))/1000*365)+Sheet1!C16+(365*2)","v":"2013-04-27T00:21:36"},33000]
[1018,"Ronald","Michaels","M","654-63-5132","Accountant","42 Harrison Avenue","Northampton","MA","01060","584-6338","Finance",{"$f":"(YEAR(TODAY()-YEAR(Sheet1!B19)))+Sheet1!B19-365*3","v":"1958-12-10"},{"$f":"(YEAR(TODAY()-YEAR(Sheet1!C19))/1000*365)+Sheet1!C19+(365*2)","v":"2012-02-02T00:21:36"},33000]
[1034,"Peter","Harzewski",null,"531-65-7984","Accountant","78 Main Street","Northampton","MA","01060","586-8162","Finance",{"$f":"(YEAR(TODAY()-YEAR(Sheet1!B44)))+Sheet1!B44-365*3","v":"1960-12-17"},{"$f":"(YEAR(TODAY()-YEAR(Sheet1!C44))/1000*365)+Sheet1!C44+(365*2)","v":"2013-11-09T00:21:36"},46000]
[1045,"Ann","Scanlon","T","798-46-5321","Accountant","90 Conz Street","Northampton","MA","01060","586-9877","Finance",{"$f":"(YEAR(TODAY()-YEAR(Sheet1!B146)))+Sheet1!B146-365*3","v":"1964-11-26"},{"$f":"(YEAR(TODAY()-YEAR(Sheet1!C146))/1000*365)+Sheet1!C146+(365*2)","v":"2014-06-08T00:21:36"},39500]
[1051,"Betty Rae","Nakai",null,"983-21-6549","Vice President","78 Main Street","Northampton","MA","01060","586-2905","Finance",{"$f":"(YEAR(TODAY()-YEAR(Sheet1!B50)))+Sheet1!B50-365*3","v":"1967-03-17"},{"$f":"(YEAR(TODAY()-YEAR(Sheet1!C50))/1000*365)+Sheet1!C50+(365*2)","v":"2012-03-15T00:21:36"},64000]
[1058,"Rosalyn","Aronson","S","654-13-2132","Accountant","17 New South  Street","Northampton","MA","01060","586-7227","Finance",{"$f":"(YEAR(TODAY()-YEAR(Sheet1!B57)))+Sheet1!B57-365*3","v":"1969-01-10"},{"$f":"(YEAR(TODAY()-YEAR(Sheet1!C57))/1000*365)+Sheet1!C57+(365*2)","v":"2010-06-29T00:21:36"},33000]
[1066,"Hilary","Croisetiere","W","656-54-9416","Accountant","25 Main Street","Northampton","MA","01060","584-7877","Finance",{"$f":"(YEAR(TODAY()-YEAR(Sheet1!B65)))+Sheet1!B65-365*3","v":"1970-02-12"},{"$f":"(YEAR(TODAY()-YEAR(Sheet1!C65))/1000*365)+Sheet1!C65+(365*2)","v":"2013-01-08T00:21:36"},33000]
[1068,"Sarah","Simpson",null,"103-21-6556","Accountant","7 Pleasant Street","Northampton","MA","01060","584-1893","Finance",{"$f":"(YEAR(TODAY()-YEAR(Sheet1!B67)))+Sheet1!B67-365*3","v":"1970-10-04"},{"$f":"(YEAR(TODAY()-YEAR(Sheet1!C67))/1000*365)+Sheet1!C67+(365*2)","v":"2013-12-06T00:21:36"},32000]
[1069,"Andy","Hastings","W","132-16-5465","Accountant","17 New South Street","Northampton","MA","01060-4073","586-0210","Finance",{"$f":"(YEAR(TODAY()-YEAR(Sheet1!B68)))+Sheet1!B68-365*3","v":"1970-10-15"},{"$f":"(YEAR(TODAY()-YEAR(Sheet1!C68))/1000*365)+Sheet1!C68+(365*2)","v":"2010-07-10T00:21:36"},32000]
[1085,"Minh","Gallagher","K","465-13-2645","Payroll Clerk","110 King Street","Northampton","MA","01060","584-6789","Finance",{"$f":"(YEAR(TODAY()-YEAR(Sheet1!B84)))+Sheet1!B84-365*3","v":"1974-06-27"},{"$f":"(YEAR(TODAY()-YEAR(Sheet1!C84))/1000*365)+Sheet1!C84+(365*2)","v":"2013-09-21T00:21:36"},27800]
[1099,"John","Mazel","O","432-13-2186","Accountant","70 Center Street","Northampton","MA","01060","584-5637","Finance",{"$f":"(YEAR(TODAY()-YEAR(Sheet1!B98)))+Sheet1!B98-365*3","v":"1977-03-01"},{"$f":"(YEAR(TODAY()-YEAR(Sheet1!C98))/1000*365)+Sheet1!C98+(365*2)","v":"2010-10-14T00:21:36"},27800]
[1100,"Lindsey","Conlon","R","687-97-6101","Payroll Clerk","17 New South Street","Northampton","MA","01060","586-1994","Finance",{"$f":"(YEAR(TODAY()-YEAR(Sheet1!B99)))+Sheet1!B99-365*3","v":"1977-04-06"},{"$f":"(YEAR(TODAY()-YEAR(Sheet1!C99))/1000*365)+Sheet1!C99+(365*2)","v":"2010-06-05T00:21:36"},33000]
[1101,"Liza","Spellane","T","654-32-1654","Accountant","160 Main Street","Northampton","MA","01060","584-2211","Finance",{"$f":"(YEAR(TODAY()-YEAR(Sheet1!B100)))+Sheet1!B100-365*3","v":"1977-04-13"},{"$f":"(YEAR(TODAY()-YEAR(Sheet1!C100))/1000*365)+Sheet1!C100+(365*2)","v":"2010-02-15T00:21:36"},33000]
[1102,"Christine","Morey, Jr.","R","321-65-4651","Accountant","62 Federal Street","Greenfield","MA","01301","774-2966","Finance",{"$f":"(YEAR(TODAY()-YEAR(Sheet1!B101)))+Sheet1!B101-365*3","v":"1977-08-02"},{"$f":"(YEAR(TODAY()-YEAR(Sheet1!C101))/1000*365)+Sheet1!C101+(365*2)","v":"2010-04-21T00:21:36"},40500]
[1111,"Allyssa","Marino, Jr.","B","654-41-3216","Accountant","90 Conz Street","Northampton","MA","01060","586-5690","Finance",{"$f":"(YEAR(TODAY()-YEAR(Sheet1!B110)))+Sheet1!B110-365*3","v":"1979-03-04"},{"$f":"(YEAR(TODAY()-YEAR(Sheet1!C110))/1000*365)+Sheet1!C110+(365*2)","v":"2009-12-11T00:21:36"},33000]
[1115,"Stephanie","Barrows","T","657-48-6541","Accountant","231 Main Street","Northampton","MA","01060","586-6161","Finance",{"$f":"(YEAR(TODAY()-YEAR(Sheet1!B114)))+Sheet1!B114-365*3","v":"1980-06-24"},{"$f":"(YEAR(TODAY()-YEAR(Sheet1!C114))/1000*365)+Sheet1!C114+(365*2)","v":"2009-11-26T00:21:36"},33000]
[1125,"Maureen","Boisseau","E","654-46-5413","Accountant","78 Main Street","Northampton","MA","01060","584-1401","Finance",{"$f":"(YEAR(TODAY()-YEAR(Sheet1!B124)))+Sheet1!B124-365*3","v":"1981-08-25"},{"$f":"(YEAR(TODAY()-YEAR(Sheet1!C124))/1000*365)+Sheet1!C124+(365*2)","v":"2010-10-29T00:21:36"},33000]
[1142,"Dodie","Farquhar","T","324-65-1003","Accountant","564 Burts Pit Road","Northampton","MA","01060-3606","584-4348","Finance",{"$f":"(YEAR(TODAY()-YEAR(Sheet1!B141)))+Sheet1!B141-365*3","v":"1984-08-02"},{"$f":"(YEAR(TODAY()-YEAR(Sheet1!C141))/1000*365)+Sheet1!C141+(365*2)","v":"2012-12-23T00:21:36"},40500]
[1144,"Edward","Hayes","F","065-12-1165","Auditor","53 Gothic Street","Northampton","MA","01060","584-7300","Finance",{"$f":"(YEAR(TODAY()-YEAR(Sheet1!B143)))+Sheet1!B143-365*3","v":"1985-02-01"},{"$f":"(YEAR(TODAY()-YEAR(Sheet1!C143))/1000*365)+Sheet1!C143+(365*2)","v":"2014-06-12T00:21:36"},38000]
[1151,"Mark","White","F","231-32-4651","Payroll Clerk","50 Center Street","Northampton","MA","01060","584-8966","Finance",{"$f":"(YEAR(TODAY()-YEAR(Sheet1!B150)))+Sheet1!B150-365*3","v":"1986-05-08"},{"$f":"(YEAR(TODAY()-YEAR(Sheet1!C150))/1000*365)+Sheet1!C150+(365*2)","v":"2010-08-27T00:21:36"},35000]
[1177,"William","Adame","J","411-32-1654","Accountant","56 Main Street","Northampton","MA","01060","586-1348","Finance",{"$f":"(YEAR(TODAY()-YEAR(Sheet1!B199)))+Sheet1!B199-365*3","v":"1990-10-16"},{"$f":"(YEAR(TODAY()-YEAR(Sheet1!C199))/1000*365)+Sheet1!C199+(365*2)","v":"2014-01-20T00:21:36"},27800]
[1179,"Linda","Duncan","H","000-40-6546","Auditor's Assistant","181 Main Street","Northampton","MA","01060","586-5757","Finance",{"$f":"(YEAR(TODAY()-YEAR(Sheet1!B177)))+Sheet1!B177-365*3","v":"1991-01-17"},{"$f":"(YEAR(TODAY()-YEAR(Sheet1!C177))/1000*365)+Sheet1!C177+(365*2)","v":"2009-04-11T00:21:36"},29000]
[1183,"Christine","Trumble","D","413-13-1265","Accountant","72 Center Street","Northampton","MA","01060","586-0679","Finance",{"$f":"(YEAR(TODAY()-YEAR(Sheet1!B180)))+Sheet1!B180-365*3","v":"1991-08-02"},{"$f":"(YEAR(TODAY()-YEAR(Sheet1!C180))/1000*365)+Sheet1!C180+(365*2)","v":"2009-05-04T00:21:36"},27800]
[1184,"Keisha","Stewart","K","135-79-8413","Accountant","90 Conz Street","Northampton","MA","01060","584-7836","Finance",{"$f":"(YEAR(TODAY()-YEAR(Sheet1!B181)))+Sheet1!B181-365*3","v":"1991-09-09"},{"$f":"(YEAR(TODAY()-YEAR(Sheet1!C181))/1000*365)+Sheet1!C181+(365*2)","v":"2010-12-26T00:21:36"},32000]
[1188,"Jessica","Aquadro",null,"102-22-4444","Accountant","56 Main Street","Northampton","MA","01060-3129","584-4515","Finance",{"$f":"(YEAR(TODAY()-YEAR(Sheet1!B185)))+Sheet1!B185-365*3","v":"1992-12-28"},{"$f":"(YEAR(TODAY()-YEAR(Sheet1!C185))/1000*365)+Sheet1!C185+(365*2)","v":"2012-11-25T00:21:36"},36000]
[1213,"Kali","Bader","K","321-65-7465","Accountant","25 Main Street","Northampton","MA","01060","584-8477","Finance",{"$f":"(YEAR(TODAY()-YEAR(Sheet1!B210)))+Sheet1!B210-365*3","v":"1996-11-27"},{"$f":"(YEAR(TODAY()-YEAR(Sheet1!C210))/1000*365)+Sheet1!C210+(365*2)","v":"2011-05-28T00:21:36"},40500]
[1217,"Armand","Abdoulaye",null,"165-46-5132","Accountant","182 Main Street","Northampton","MA","01060-3104","584-7950","Finance",{"$f":"(YEAR(TODAY()-YEAR(Sheet1!B82)))+Sheet1!B82-365*3","v":"1997-04-03"},{"$f":"(YEAR(TODAY()-YEAR(Sheet1!C82))/1000*365)+Sheet1!C82+(365*2)","v":"2014-09-17T00:21:36"},32000]
[1219,"Gilbert","Finkel","R","454-51-3216","Accountant","64 Maplewood Shops","Northampton","MA","01060","586-7490","Finance",{"$f":"(YEAR(TODAY()-YEAR(Sheet1!B216)))+Sheet1!B216-365*3","v":"1991-10-07"},{"$f":"(YEAR(TODAY()-YEAR(Sheet1!C216))/1000*365)+Sheet1!C216+(365*2)","v":"2006-09-20T00:21:36"},27800]
[1220,"Thelma","Kenyon","D","132-46-5413","Accountant","78 Main Street #5FL","Northampton","MA","01060-3111","586-4020","Finance",{"$f":"(YEAR(TODAY()-YEAR(Sheet1!B217)))+Sheet1!B217-365*3","v":"1991-10-09"},{"$f":"(YEAR(TODAY()-YEAR(Sheet1!C217))/1000*365)+Sheet1!C217+(365*2)","v":"2006-09-04T00:21:36"},32000]
[1005,"Jessica","Humphries","O","653-26-5986","Manager","P.O. Box 98","Three Rivers","MA","01080","283-3418","Human Resources",{"$f":"(YEAR(TODAY()-YEAR(Sheet1!B157)))+Sheet1!B157-365*3","v":"1955-06-29"},{"$f":"(YEAR(TODAY()-YEAR(Sheet1!C157))/1000*365)+Sheet1!C157+(365*2)","v":"2014-05-01T00:21:36"},33000]
[1012,"Jessica","Stobacc","M","653-22-8698","Manager","333 Elm Street","Northampton","MA","01060","586-5555","Human Resources",{"$f":"(YEAR(TODAY()-YEAR(Sheet1!B6)))+Sheet1!B6-365*3","v":"1957-01-06"},{"$f":"(YEAR(TODAY()-YEAR(Sheet1!C6))/1000*365)+Sheet1!C6+(365*2)","v":"2013-11-17T00:21:36"},33000]
[1037,"Jennifer","Hindmarsh","L","657-98-7316","Manager","P.O. Box 8","Three Rivers","MA","01080-0008","283-2561","Human Resources",{"$f":"(YEAR(TODAY()-YEAR(Sheet1!B37)))+Sheet1!B37-365*3","v":"1962-02-14"},{"$f":"(YEAR(TODAY()-YEAR(Sheet1!C37))/1000*365)+Sheet1!C37+(365*2)","v":"2012-12-21T00:21:36"},33000]
[1041,"Cindy","Dougan","A","065-41-3576","Manager","1500 St. James Street","Springfield","MA","01115","781-6850","Human Resources",{"$f":"(YEAR(TODAY()-YEAR(Sheet1!B41)))+Sheet1!B41-365*3","v":"1964-06-13"},{"$f":"(YEAR(TODAY()-YEAR(Sheet1!C41))/1000*365)+Sheet1!C41+(365*2)","v":"2011-03-18T00:21:36"},45000]
[1042,"Bud","Kornfeld","A","566-93-5695","Manager","504 Country Side","Greenfield","MA","01301","733-5555","Human Resources",{"$f":"(YEAR(TODAY()-YEAR(Sheet1!B42)))+Sheet1!B42-365*3","v":"1964-10-19"},{"$f":"(YEAR(TODAY()-YEAR(Sheet1!C42))/1000*365)+Sheet1!C42+(365*2)","v":"2009-08-19T00:21:36"},46000]
[1043,"William","Cordner","N","654-65-1321","Manager","30 Locust Street, Box 5001","Northampton","MA","01061-5001","586-5555","Human Resources",{"$f":"(YEAR(TODAY()-YEAR(Sheet1!B43)))+Sheet1!B43-365*3","v":"1964-11-24"},{"$f":"(YEAR(TODAY()-YEAR(Sheet1!C43))/1000*365)+Sheet1!C43+(365*2)","v":"2012-10-30T00:21:36"},33000]
[1059,"Jane","Mendel","A","359-96-3599","Manager","20 Birnie Avenue","Springfield","MA","01107","732-5066","Human Resources",{"$f":"(YEAR(TODAY()-YEAR(Sheet1!B58)))+Sheet1!B58-365*3","v":"1969-01-21"},{"$f":"(YEAR(TODAY()-YEAR(Sheet1!C58))/1000*365)+Sheet1!C58+(365*2)","v":"2012-08-05T00:21:36"},40500]
[1062,"Rachel","Anderson","J","654-65-1216","Manager","1500 Main Street","Springfield","MA","01115","781-6850","Human Resources",{"$f":"(YEAR(TODAY()-YEAR(Sheet1!B61)))+Sheet1!B61-365*3","v":"1969-05-30"},{"$f":"(YEAR(TODAY()-YEAR(Sheet1!C61))/1000*365)+Sheet1!C61+(365*2)","v":"2011-06-02T00:21:36"},33000]
[1079,"Tom","Ali","N","321-65-7487","Manager","1380 Main Street, Box 2792","Springfield","MA","01101","781-0671","Human Resources",{"$f":"(YEAR(TODAY()-YEAR(Sheet1!B78)))+Sheet1!B78-365*3","v":"1973-04-17"},{"$f":"(YEAR(TODAY()-YEAR(Sheet1!C78))/1000*365)+Sheet1!C78+(365*2)","v":"2012-09-14T00:21:36"},40500]
[1092,"Sara","Crawford","T","465-13-2165","Vice President","567 Many Avenue","Longmeadow","MA","01106","567-7967","Human Resources",{"$f":"(YEAR(TODAY()-YEAR(Sheet1!B91)))+Sheet1!B91-365*3","v":"1975-07-18"},{"$f":"(YEAR(TODAY()-YEAR(Sheet1!C91))/1000*365)+Sheet1!C91+(365*2)","v":"2010-03-12T00:21:36"},59000]
[1095,"Daran","Mattson","P","987-98-4321","Manager","6 5th Avenue","W. Springfield","MA","01090","788-6181","Human Resources",{"$f":"(YEAR(TODAY()-YEAR(Sheet1!B94)))+Sheet1!B94-365*3","v":"1976-05-20"},{"$f":"(YEAR(TODAY()-YEAR(Sheet1!C94))/1000*365)+Sheet1!C94+(365*2)","v":"2010-01-14T00:21:36"},28500]
[1098,"Richard","Coupe","A","416-54-6543","Manager","200 Industrial Park","Northampton","MA","01060","586-5555","Human Resources",{"$f":"(YEAR(TODAY()-YEAR(Sheet1!B97)))+Sheet1!B97-365*3","v":"1976-12-30"},{"$f":"(YEAR(TODAY()-YEAR(Sheet1!C97))/1000*365)+Sheet1!C97+(365*2)","v":"2012-01-02T00:21:36"},27800]
[1105,"Craig","Homan","W","654-65-4132","Manager","150 Fearing Street","Amherst","MA","01002","549-7887","Human Resources",{"$f":"(YEAR(TODAY()-YEAR(Sheet1!B104)))+Sheet1!B104-365*3","v":"1978-06-11"},{"$f":"(YEAR(TODAY()-YEAR(Sheet1!C104))/1000*365)+Sheet1!C104+(365*2)","v":"2014-07-21T00:21:36"},33000]
[1122,"Sarah","Proctor","A","153-20-8465","Manager","180 Westfield Street","W. Springfield","MA","01089","785-1611","Human Resources",{"$f":"(YEAR(TODAY()-YEAR(Sheet1!B121)))+Sheet1!B121-365*3","v":"1981-06-10"},{"$f":"(YEAR(TODAY()-YEAR(Sheet1!C121))/1000*365)+Sheet1!C121+(365*2)","v":"2009-11-21T00:21:36"},32000]
[1007,"Alexa","Ormsby","T","123-45-6789","Sales Person","264 North Main Street","East Longmeadow","MA","01028","525-4391","Marketing",{"$f":"(YEAR(TODAY()-YEAR(Sheet1!B8)))+Sheet1!B8-365*3","v":"1956-01-20"},{"$f":"(YEAR(TODAY()-YEAR(Sheet1!C8))/1000*365)+Sheet1!C8+(365*2)","v":"2013-09-10T00:21:36"},40500]
[1020,"Mario","Montiglio","C","596-69-6693","Sales Person","293 Elm Street","W. Springfield","MA","01089","732-5465","Marketing",{"$f":"(YEAR(TODAY()-YEAR(Sheet1!B21)))+Sheet1!B21-365*3","v":"1959-06-23"},{"$f":"(YEAR(TODAY()-YEAR(Sheet1!C21))/1000*365)+Sheet1!C21+(365*2)","v":"2009-09-30T00:21:36"},46000]
[1030,"William","Li","R","984-32-1657","Sales Person","P.O. Box 2554","Springfield","MA","01101","784-0430","Marketing",{"$f":"(YEAR(TODAY()-YEAR(Sheet1!B30)))+Sheet1!B30-365*3","v":"1960-04-22"},{"$f":"(YEAR(TODAY()-YEAR(Sheet1!C30))/1000*365)+Sheet1!C30+(365*2)","v":"2013-07-01T00:21:36"},28500]
[1046,"David","Mcnamara","A","465-46-3213","Sales Manager","201 East Street","Ludlow","MA","01056-0407","583-3407","Marketing",{"$f":"(YEAR(TODAY()-YEAR(Sheet1!B118)))+Sheet1!B118-365*3","v":"1965-04-09"},{"$f":"(YEAR(TODAY()-YEAR(Sheet1!C118))/1000*365)+Sheet1!C118+(365*2)","v":"2014-07-05T00:21:36"},27800]
[1047,"Ouida","Friend","A","654-65-1002","Sales Person","32 Hampden Street, Box 80396","Springfield","MA","01138","732-3071","Marketing",{"$f":"(YEAR(TODAY()-YEAR(Sheet1!B46)))+Sheet1!B46-365*3","v":"1965-06-05"},{"$f":"(YEAR(TODAY()-YEAR(Sheet1!C46))/1000*365)+Sheet1!C46+(365*2)","v":"2009-09-09T00:21:36"},33000]
[1055,"Emily","Gaudreau","R","465-45-1231","Sales Person","145 State Street","Springfield","MA","01103","732-7441","Marketing",{"$f":"(YEAR(TODAY()-YEAR(Sheet1!B54)))+Sheet1!B54-365*3","v":"1967-08-10"},{"$f":"(YEAR(TODAY()-YEAR(Sheet1!C54))/1000*365)+Sheet1!C54+(365*2)","v":"2009-03-28T00:21:36"},27800]
[1063,"Allen","Foster","P","202-65-6698","Sales Person","82 Main Street, Box 977","W. Springfield","MA","01090","781-3765","Marketing",{"$f":"(YEAR(TODAY()-YEAR(Sheet1!B165)))+Sheet1!B165-365*3","v":"1969-07-08"},{"$f":"(YEAR(TODAY()-YEAR(Sheet1!C165))/1000*365)+Sheet1!C165+(365*2)","v":"2014-04-08T00:21:36"},35000]
[1064,"Robert","Stephenson",null,"654-65-4132","Sales Person","200 North Main Street","East Longmeadow","MA","01028","525-4591","Marketing",{"$f":"(YEAR(TODAY()-YEAR(Sheet1!B63)))+Sheet1!B63-365*3","v":"1969-10-05"},{"$f":"(YEAR(TODAY()-YEAR(Sheet1!C63))/1000*365)+Sheet1!C63+(365*2)","v":"2009-11-03T00:21:36"},33000]
[1088,"Robert","Lecount","A","536-51-3032","Sales Person","533 Irene Street","Chicopee","MA","01020","533-1300","Marketing",{"$f":"(YEAR(TODAY()-YEAR(Sheet1!B87)))+Sheet1!B87-365*3","v":"1975-02-01"},{"$f":"(YEAR(TODAY()-YEAR(Sheet1!C87))/1000*365)+Sheet1!C87+(365*2)","v":"2009-09-22T00:21:36"},46000]
[1093,"Daniel","May","S","654-65-1321","Vice President","146 Bay Road","Springfield","MA","01102","781-5222","Marketing",{"$f":"(YEAR(TODAY()-YEAR(Sheet1!B92)))+Sheet1!B92-365*3","v":"1975-11-10"},{"$f":"(YEAR(TODAY()-YEAR(Sheet1!C92))/1000*365)+Sheet1!C92+(365*2)","v":"2011-12-28T00:21:36"},60000]
[1103,"Marguerite","Blair","W","254-84-5641","Sales Person","110 Maple Street","Springfield","MA","01105-1857","781-5101","Marketing",{"$f":"(YEAR(TODAY()-YEAR(Sheet1!B102)))+Sheet1!B102-365*3","v":"1977-09-26"},{"$f":"(YEAR(TODAY()-YEAR(Sheet1!C102))/1000*365)+Sheet1!C102+(365*2)","v":"2013-10-01T00:21:36"},35000]
[1109,"Dorothy","Worley","Y","625-65-9863","Sales Person","117 Church Street","Chicopee","MA","01020-1814","598-8544","Marketing",{"$f":"(YEAR(TODAY()-YEAR(Sheet1!B108)))+Sheet1!B108-365*3","v":"1978-11-22"},{"$f":"(YEAR(TODAY()-YEAR(Sheet1!C108))/1000*365)+Sheet1!C108+(365*2)","v":"2010-04-07T00:21:36"},33000]
[1113,"Lakshmi","Lawson","A","165-41-3203","Sales Manager","5 Burgundy Lane","Amherst","MA","01002","253-3836","Marketing",{"$f":"(YEAR(TODAY()-YEAR(Sheet1!B112)))+Sheet1!B112-365*3","v":"1980-05-24"},{"$f":"(YEAR(TODAY()-YEAR(Sheet1!C112))/1000*365)+Sheet1!C112+(365*2)","v":"2010-04-24T00:21:36"},32000]
[1120,"Leon","Manson",null,"213-26-5465","Sales Person","2440 Boston Road","Wilbraham","MA","01095","596-8803","Marketing",{"$f":"(YEAR(TODAY()-YEAR(Sheet1!B119)))+Sheet1!B119-365*3","v":"1981-04-13"},{"$f":"(YEAR(TODAY()-YEAR(Sheet1!C119))/1000*365)+Sheet1!C119+(365*2)","v":"2013-11-27T00:21:36"},35000]
[1131,"Charlie","Church",null,"321-65-4654","Sales Person","241 King Street","Northampton","MA","01060","584-5258","Marketing",{"$f":"(YEAR(TODAY()-YEAR(Sheet1!B130)))+Sheet1!B130-365*3","v":"1982-12-21"},{"$f":"(YEAR(TODAY()-YEAR(Sheet1!C130))/1000*365)+Sheet1!C130+(365*2)","v":"2011-03-28T00:21:36"},40500]
[1134,"Nicole","Dague","T","654-13-2186","Sales Manager","P.O. Box 15349","Springfield","MA","01115","781-6850","Marketing",{"$f":"(YEAR(TODAY()-YEAR(Sheet1!B133)))+Sheet1!B133-365*3","v":"1983-06-15"},{"$f":"(YEAR(TODAY()-YEAR(Sheet1!C133))/1000*365)+Sheet1!C133+(365*2)","v":"2013-05-29T00:21:36"},33000]
[1153,"William","Steinhaus","W","989-52-6953","Sales Person","P.O. Box 4579","Springfield","MA","01101","737-3347","Marketing",{"$f":"(YEAR(TODAY()-YEAR(Sheet1!B152)))+Sheet1!B152-365*3","v":"1986-07-04"},{"$f":"(YEAR(TODAY()-YEAR(Sheet1!C152))/1000*365)+Sheet1!C152+(365*2)","v":"2011-09-29T00:21:36"},28500]
[1176,"Alexander","Weisser",null,"987-53-1186","Sales Person","P.O. Box 2432","Springfield","MA","01101-2432","788-4799","Marketing",{"$f":"(YEAR(TODAY()-YEAR(Sheet1!B175)))+Sheet1!B175-365*3","v":"1990-06-22"},{"$f":"(YEAR(TODAY()-YEAR(Sheet1!C175))/1000*365)+Sheet1!C175+(365*2)","v":"2009-06-20T00:21:36"},28500]
[1197,"Hoodo","Todrin",null,"155-45-6132","Sales Person","146 Chestnut Street","Springfield","MA","01103","781-7000","Marketing",{"$f":"(YEAR(TODAY()-YEAR(Sheet1!B194)))+Sheet1!B194-365*3","v":"1995-05-23"},{"$f":"(YEAR(TODAY()-YEAR(Sheet1!C194))/1000*365)+Sheet1!C194+(365*2)","v":"2010-06-24T00:21:36"},32000]
[1225,"Robert","Hyppolite","R","165-46-5432","Sales Person","345 South Street","East Longmeadow","MA","01028","525-4591","Marketing",{"$f":"(YEAR(TODAY()-YEAR(Sheet1!B222)))+Sheet1!B222-365*3","v":"1993-10-26"},{"$f":"(YEAR(TODAY()-YEAR(Sheet1!C222))/1000*365)+Sheet1!C222+(365*2)","v":"2008-10-30T00:21:36"},32000]
[1001,"Brewster","Olson","F","656-51-2165","Line Worker","813 Williams Street","Longmeadow","MA","01106","567-1054","Production",{"$f":"(YEAR(TODAY()-YEAR(Sheet1!B2)))+Sheet1!B2-365*3","v":"1953-08-20"},{"$f":"(YEAR(TODAY()-YEAR(Sheet1!C2))/1000*365)+Sheet1!C2+(365*2)","v":"2012-04-21T00:21:36"},33000]
[1004,"Erin","Bys","E","321-32-6546","Line Worker","P.O. Box 521","W. Springfield","MA","01090","781-8297","Production",{"$f":"(YEAR(TODAY()-YEAR(Sheet1!B5)))+Sheet1!B5-365*3","v":"1954-06-19"},{"$f":"(YEAR(TODAY()-YEAR(Sheet1!C5))/1000*365)+Sheet1!C5+(365*2)","v":"2011-04-19T00:21:36"},40500]
[1006,"Denis","Clapp","D","312-06-5654","Line Worker","2036 Boston Road","Wilbraham","MA","01095","543-3534","Production",{"$f":"(YEAR(TODAY()-YEAR(Sheet1!B7)))+Sheet1!B7-365*3","v":"1955-09-04"},{"$f":"(YEAR(TODAY()-YEAR(Sheet1!C7))/1000*365)+Sheet1!C7+(365*2)","v":"2010-10-24T00:21:36"},40500]
[1008,"Deina","Burgess",null,"498-76-1657","Line Worker","1760 Main Street, Box 2814","Springfield","MA","01101","733-9206","Production",{"$f":"(YEAR(TODAY()-YEAR(Sheet1!B9)))+Sheet1!B9-365*3","v":"1956-06-27"},{"$f":"(YEAR(TODAY()-YEAR(Sheet1!C9))/1000*365)+Sheet1!C9+(365*2)","v":"2012-02-09T00:21:36"},27800]
[1009,"Herbert","Stramel","A","654-32-9879","Line Worker","1500 Main Street","Springfield","MA","01114-0002","781-2520","Production",{"$f":"(YEAR(TODAY()-YEAR(Sheet1!B10)))+Sheet1!B10-365*3","v":"1956-07-17"},{"$f":"(YEAR(TODAY()-YEAR(Sheet1!C10))/1000*365)+Sheet1!C10+(365*2)","v":"2009-03-14T00:21:36"},33000]
[1010,"Laura","Boardman","E","321-41-5511","Line Worker","1355 Liberty Street #303","Springfield","MA","01104","734-3690","Production",{"$f":"(YEAR(TODAY()-YEAR(Sheet1!B11)))+Sheet1!B11-365*3","v":"1956-08-13"},{"$f":"(YEAR(TODAY()-YEAR(Sheet1!C11))/1000*365)+Sheet1!C11+(365*2)","v":"2011-07-02T00:21:36"},40500]
[1014,"Sarah","Hegarty","T","654-65-4321","Line Worker","1500 Main Street, Suite 2108","Springfield","MA","01115","739-6931","Production",{"$f":"(YEAR(TODAY()-YEAR(Sheet1!B15)))+Sheet1!B15-365*3","v":"1957-08-05"},{"$f":"(YEAR(TODAY()-YEAR(Sheet1!C15))/1000*365)+Sheet1!C15+(365*2)","v":"2009-12-23T00:21:36"},33000]
[1017,"Kathleen","Rathmann","D","654-65-4105","Line Worker","12 Bell Street","Chicopee","MA","01013-1241","594-2714","Production",{"$f":"(YEAR(TODAY()-YEAR(Sheet1!B18)))+Sheet1!B18-365*3","v":"1958-11-11"},{"$f":"(YEAR(TODAY()-YEAR(Sheet1!C18))/1000*365)+Sheet1!C18+(365*2)","v":"2011-05-06T00:21:36"},33000]
[1019,"Aurora","Sullivan",null,"986-51-6598","Line Worker","P.O. Box 1094","W. Springfield","MA","01090-1094","734-5681","Production",{"$f":"(YEAR(TODAY()-YEAR(Sheet1!B20)))+Sheet1!B20-365*3","v":"1959-05-06"},{"$f":"(YEAR(TODAY()-YEAR(Sheet1!C20))/1000*365)+Sheet1!C20+(365*2)","v":"2013-02-11T00:21:36"},28500]
[1021,"Jennifer","Manning",null,"033-01-5401","Line Worker","1350 Main Street","Springfield","MA","01103","739-6911","Production",{"$f":"(YEAR(TODAY()-YEAR(Sheet1!B22)))+Sheet1!B22-365*3","v":"1959-06-26"},{"$f":"(YEAR(TODAY()-YEAR(Sheet1!C22))/1000*365)+Sheet1!C22+(365*2)","v":"2012-02-26T00:21:36"},24200]
[1022,"Shelley","Pryor",null,"132-11-6556","Line Worker","1295 State Street","Springfield","MA","01111","788-8411","Production",{"$f":"(YEAR(TODAY()-YEAR(Sheet1!B23)))+Sheet1!B23-365*3","v":"1959-07-14"},{"$f":"(YEAR(TODAY()-YEAR(Sheet1!C23))/1000*365)+Sheet1!C23+(365*2)","v":"2013-12-14T00:21:36"},32000]
[1023,"Madalyn","Digironimo","H","210-32-6543","Accountant","9 3/4 Market Street","Northampton","MA","01060","586-7657","Production",{"$f":"(YEAR(TODAY()-YEAR(Sheet1!B25)))+Sheet1!B25-365*3","v":"1959-09-03"},{"$f":"(YEAR(TODAY()-YEAR(Sheet1!C25))/1000*365)+Sheet1!C25+(365*2)","v":"2011-01-14T00:21:36"},35000]
[1024,"Gerald","Clarke-Mayberg","Y","614-21-3246","Line Worker","7 Spring House Road","Hampden","MA","01036","566-8737","Production",{"$f":"(YEAR(TODAY()-YEAR(Sheet1!B12)))+Sheet1!B12-365*3","v":"1959-09-17"},{"$f":"(YEAR(TODAY()-YEAR(Sheet1!C12))/1000*365)+Sheet1!C12+(365*2)","v":"2009-08-19T00:21:36"},33000]
[1025,"Ellen","Telzer","G","406-54-1513","Line Worker","146 Chestnut Street","Springfield","MA","01103","781-7000","Production",{"$f":"(YEAR(TODAY()-YEAR(Sheet1!B26)))+Sheet1!B26-365*3","v":"1959-09-30"},{"$f":"(YEAR(TODAY()-YEAR(Sheet1!C26))/1000*365)+Sheet1!C26+(365*2)","v":"2012-12-08T00:21:36"},27800]
[1026,"Maya","Irvine","R","065-51-3246","Line Worker","34 Chestnut Street","Ludlow","MA","01056","583-8358","Production",{"$f":"(YEAR(TODAY()-YEAR(Sheet1!B27)))+Sheet1!B27-365*3","v":"1959-11-04"},{"$f":"(YEAR(TODAY()-YEAR(Sheet1!C27))/1000*365)+Sheet1!C27+(365*2)","v":"2013-05-19T00:21:36"},26300]
[1027,"Makena","Sullivan","J","324-65-1313","Line Worker","155 Maple Street, Suite 204","Springfield","MA","01105","736-7800","Production",{"$f":"(YEAR(TODAY()-YEAR(Sheet1!B28)))+Sheet1!B28-365*3","v":"1960-03-12"},{"$f":"(YEAR(TODAY()-YEAR(Sheet1!C28))/1000*365)+Sheet1!C28+(365*2)","v":"2009-06-13T00:21:36"},40500]
[1029,"Alicyn","Thyber",null,"254-89-8844","Production Supervisor","10 Center Street","Chicopee","MA","01013-2687","598-8381","Production",{"$f":"(YEAR(TODAY()-YEAR(Sheet1!B29)))+Sheet1!B29-365*3","v":"1960-04-04"},{"$f":"(YEAR(TODAY()-YEAR(Sheet1!C29))/1000*365)+Sheet1!C29+(365*2)","v":"2012-06-15T00:21:36"},35000]
[1031,"Sarah","Kennedy","S","651-06-0406","Line Worker","7688 Park Avenue","W. Springfield","MA","01090","736-8315","Production",{"$f":"(YEAR(TODAY()-YEAR(Sheet1!B129)))+Sheet1!B129-365*3","v":"1960-09-13"},{"$f":"(YEAR(TODAY()-YEAR(Sheet1!C129))/1000*365)+Sheet1!C129+(365*2)","v":"2014-06-22T00:21:36"},33000]
[1032,"Colleen","Zhao","F","465-32-1165","Line Worker","99 Church Street","Chicopee","MA","01020","594-5216","Production",{"$f":"(YEAR(TODAY()-YEAR(Sheet1!B32)))+Sheet1!B32-365*3","v":"1960-09-20"},{"$f":"(YEAR(TODAY()-YEAR(Sheet1!C32))/1000*365)+Sheet1!C32+(365*2)","v":"2013-10-08T00:21:36"},27800]
[1033,"John","Ndiaye",null,"032-16-5465","Line Worker","31 Elm Street","Springfield","MA","01103","733-6400","Production",{"$f":"(YEAR(TODAY()-YEAR(Sheet1!B33)))+Sheet1!B33-365*3","v":"1960-11-24"},{"$f":"(YEAR(TODAY()-YEAR(Sheet1!C33))/1000*365)+Sheet1!C33+(365*2)","v":"2012-08-09T00:21:36"},31000]
[1035,"Richard","Lomeli-Loibl","C","321-13-2015","Line Worker","111 Exchange Street","Chicopee","MA","01013-1211","594-4780","Production",{"$f":"(YEAR(TODAY()-YEAR(Sheet1!B35)))+Sheet1!B35-365*3","v":"1961-03-26"},{"$f":"(YEAR(TODAY()-YEAR(Sheet1!C35))/1000*365)+Sheet1!C35+(365*2)","v":"2012-02-18T00:21:36"},40500]
[1036,"Mary","Angers II","P","654-65-9851","Line Worker","1500 Main Street, Suite 2108","Springfield","MA","01115","739-6931","Production",{"$f":"(YEAR(TODAY()-YEAR(Sheet1!B36)))+Sheet1!B36-365*3","v":"1961-03-30"},{"$f":"(YEAR(TODAY()-YEAR(Sheet1!C36))/1000*365)+Sheet1!C36+(365*2)","v":"2009-01-09T00:21:36"},33000]
[1038,"Charles","Ayars","B","016-28-6541","Line Worker","89 Main Street","Ware","MA","01082","967-5061","Production",{"$f":"(YEAR(TODAY()-YEAR(Sheet1!B38)))+Sheet1!B38-365*3","v":"1962-09-15"},{"$f":"(YEAR(TODAY()-YEAR(Sheet1!C38))/1000*365)+Sheet1!C38+(365*2)","v":"2010-01-28T00:21:36"},25700]
[1039,"Cynthia","Flight","F","132-16-5321","Line Worker","20 Gatehouse Road","Amherst","MA","01002","256-8351","Production",{"$f":"(YEAR(TODAY()-YEAR(Sheet1!B39)))+Sheet1!B39-365*3","v":"1963-08-08"},{"$f":"(YEAR(TODAY()-YEAR(Sheet1!C39))/1000*365)+Sheet1!C39+(365*2)","v":"2009-10-06T00:21:36"},32000]
[1048,"Eissa","Romell","T","321-16-5465","Line Worker","55 State Street","Springfield","MA","01103","732-3158","Production",{"$f":"(YEAR(TODAY()-YEAR(Sheet1!B47)))+Sheet1!B47-365*3","v":"1965-10-30"},{"$f":"(YEAR(TODAY()-YEAR(Sheet1!C47))/1000*365)+Sheet1!C47+(365*2)","v":"2010-09-18T00:21:36"},40500]
[1052,"Ann","Daniels","A","321-06-5650","Line Worker","662 Riverdale Street","W. Springfield","MA","01089","732-4137","Production",{"$f":"(YEAR(TODAY()-YEAR(Sheet1!B51)))+Sheet1!B51-365*3","v":"1967-05-06"},{"$f":"(YEAR(TODAY()-YEAR(Sheet1!C51))/1000*365)+Sheet1!C51+(365*2)","v":"2013-12-19T00:21:36"},40500]
[1053,"Elettra","Stevens","A","321-32-1362","Line Worker","200 North Main Street","East Longmeadow","MA","01028","525-1192","Production",{"$f":"(YEAR(TODAY()-YEAR(Sheet1!B52)))+Sheet1!B52-365*3","v":"1967-05-13"},{"$f":"(YEAR(TODAY()-YEAR(Sheet1!C52))/1000*365)+Sheet1!C52+(365*2)","v":"2010-02-08T00:21:36"},40500]
[1054,"Susan","Rocamora","O","362-46-5413","Line Worker","37 Broad Street","Westfield","MA","01085","568-1243","Production",{"$f":"(YEAR(TODAY()-YEAR(Sheet1!B53)))+Sheet1!B53-365*3","v":"1967-07-30"},{"$f":"(YEAR(TODAY()-YEAR(Sheet1!C53))/1000*365)+Sheet1!C53+(365*2)","v":"2009-06-28T00:21:36"},40500]
[1056,"Hannah","Gilman",null,"165-49-7651","Line Worker","264 North Main Street","East Longmeadow","MA","01028","525-4591","Production",{"$f":"(YEAR(TODAY()-YEAR(Sheet1!B55)))+Sheet1!B55-365*3","v":"1968-04-16"},{"$f":"(YEAR(TODAY()-YEAR(Sheet1!C55))/1000*365)+Sheet1!C55+(365*2)","v":"2009-12-10T00:21:36"},32000]
[1060,"Naomi","Fordman","A","321-16-5654","Line Worker","1350 Maint Street","Springfield","MA","01103","739-6911","Production",{"$f":"(YEAR(TODAY()-YEAR(Sheet1!B59)))+Sheet1!B59-365*3","v":"1969-02-26"},{"$f":"(YEAR(TODAY()-YEAR(Sheet1!C59))/1000*365)+Sheet1!C59+(365*2)","v":"2009-11-19T00:21:36"},40500]
[1061,"Katie","Melnik","E","216-54-1323","Line Worker","321 Park Street","W. Springfield","MA","01089","781-7075","Production",{"$f":"(YEAR(TODAY()-YEAR(Sheet1!B60)))+Sheet1!B60-365*3","v":"1969-05-22"},{"$f":"(YEAR(TODAY()-YEAR(Sheet1!C60))/1000*365)+Sheet1!C60+(365*2)","v":"2012-02-14T00:21:36"},35000]
[1065,"Stephen","Grossman","J","213-21-5465","Line Worker","1111 Elm Street, Box 2111","W. Springfield","MA","01090-2111","781-1750","Production",{"$f":"(YEAR(TODAY()-YEAR(Sheet1!B64)))+Sheet1!B64-365*3","v":"1970-01-24"},{"$f":"(YEAR(TODAY()-YEAR(Sheet1!C64))/1000*365)+Sheet1!C64+(365*2)","v":"2010-01-08T00:21:36"},35000]
[1070,"John","Hunt","S","074-33-3421","Line Worker","P.O. Box 70","Westfield","MA","01085","562-3112","Production",{"$f":"(YEAR(TODAY()-YEAR(Sheet1!B69)))+Sheet1!B69-365*3","v":"1970-11-11"},{"$f":"(YEAR(TODAY()-YEAR(Sheet1!C69))/1000*365)+Sheet1!C69+(365*2)","v":"2012-06-02T00:21:36"},27800]
[1071,"Peter","Ou",null,"657-46-5416","Line Worker","P.O. Box 912","Springfield","MA","01101","788-7559","Production",{"$f":"(YEAR(TODAY()-YEAR(Sheet1!B70)))+Sheet1!B70-365*3","v":"1971-02-22"},{"$f":"(YEAR(TODAY()-YEAR(Sheet1!C70))/1000*365)+Sheet1!C70+(365*2)","v":"2009-09-30T00:21:36"},33000]
[1072,"John","Sabella",null,"465-32-1324","Line Worker","302 Sumner Avenue","Springfield","MA","01108","737-1997","Production",{"$f":"(YEAR(TODAY()-YEAR(Sheet1!B173)))+Sheet1!B173-365*3","v":"1971-07-04"},{"$f":"(YEAR(TODAY()-YEAR(Sheet1!C173))/1000*365)+Sheet1!C173+(365*2)","v":"2014-02-17T00:21:36"},27800]
[1073,"Kristiane","Hebert","P","658-64-8532","Line Worker","43 Pearl Street","Chicopee","MA","01013","592-2954","Production",{"$f":"(YEAR(TODAY()-YEAR(Sheet1!B72)))+Sheet1!B72-365*3","v":"1971-09-05"},{"$f":"(YEAR(TODAY()-YEAR(Sheet1!C72))/1000*365)+Sheet1!C72+(365*2)","v":"2011-05-13T00:21:36"},33000]
[1074,"Toni","Potter, Jr.","I","233-23-2465","Line Worker","32 Hampden Street","Springfield","MA","01103","781-0416","Production",{"$f":"(YEAR(TODAY()-YEAR(Sheet1!B73)))+Sheet1!B73-365*3","v":"1971-12-23"},{"$f":"(YEAR(TODAY()-YEAR(Sheet1!C73))/1000*365)+Sheet1!C73+(365*2)","v":"2012-09-10T00:21:36"},35000]
[1076,"Michael","Commons","A","032-16-5631","Line Worker","P.O. Box 357","Northampton","MA","01061-0357","586-7373","Production",{"$f":"(YEAR(TODAY()-YEAR(Sheet1!B75)))+Sheet1!B75-365*3","v":"1972-06-15"},{"$f":"(YEAR(TODAY()-YEAR(Sheet1!C75))/1000*365)+Sheet1!C75+(365*2)","v":"2013-08-30T00:21:36"},25300]
[1078,"Marisa","Gravelin","H","654-65-4321","Line Worker","100 Main Street","Monson","MA","01057","596-4417","Production",{"$f":"(YEAR(TODAY()-YEAR(Sheet1!B77)))+Sheet1!B77-365*3","v":"1973-02-22"},{"$f":"(YEAR(TODAY()-YEAR(Sheet1!C77))/1000*365)+Sheet1!C77+(365*2)","v":"2010-06-17T00:21:36"},33000]
[1081,"William","Lee","D","654-65-4132","Foreman","54 Revell Avenue","Northampton","MA","01060","586-5555","Production",{"$f":"(YEAR(TODAY()-YEAR(Sheet1!B80)))+Sheet1!B80-365*3","v":"1973-12-22"},{"$f":"(YEAR(TODAY()-YEAR(Sheet1!C80))/1000*365)+Sheet1!C80+(365*2)","v":"2009-11-07T00:21:36"},33000]
[1084,"Monika","Canary","F","321-65-4653","Line Worker","31 Ely Avenue","W. Springfield","MA","01089","736-3714","Production",{"$f":"(YEAR(TODAY()-YEAR(Sheet1!B83)))+Sheet1!B83-365*3","v":"1974-02-02"},{"$f":"(YEAR(TODAY()-YEAR(Sheet1!C83))/1000*365)+Sheet1!C83+(365*2)","v":"2011-07-19T00:21:36"},40500]
[1086,"James","Zaragoza","C","135-74-9874","Line Worker","380 Union Street, Room 324","W. Springfield","MA","01089","781-6090","Production",{"$f":"(YEAR(TODAY()-YEAR(Sheet1!B85)))+Sheet1!B85-365*3","v":"1974-10-16"},{"$f":"(YEAR(TODAY()-YEAR(Sheet1!C85))/1000*365)+Sheet1!C85+(365*2)","v":"2011-07-20T00:21:36"},32000]
[1087,"Lauren","Arden","M","654-32-1534","Line Worker","117 Main Street","Greenfield","MA","01301","773-9913","Production",{"$f":"(YEAR(TODAY()-YEAR(Sheet1!B86)))+Sheet1!B86-365*3","v":"1974-12-20"},{"$f":"(YEAR(TODAY()-YEAR(Sheet1!C86))/1000*365)+Sheet1!C86+(365*2)","v":"2012-09-27T00:21:36"},33000]
[1089,"Henry","Khan",null,"351-32-1654","Line Worker","666 Bliss Road","Longmeadow","MA","01106","567-6161","Production",{"$f":"(YEAR(TODAY()-YEAR(Sheet1!B88)))+Sheet1!B88-365*3","v":"1975-02-10"},{"$f":"(YEAR(TODAY()-YEAR(Sheet1!C88))/1000*365)+Sheet1!C88+(365*2)","v":"2010-03-23T00:21:36"},40500]
[1090,"Herman","Philips","F","165-46-5132","Line Worker","167 Dwight Road","Longmeadow","MA","01106","567-3388","Production",{"$f":"(YEAR(TODAY()-YEAR(Sheet1!B215)))+Sheet1!B215-365*3","v":"1975-05-05"},{"$f":"(YEAR(TODAY()-YEAR(Sheet1!C215))/1000*365)+Sheet1!C215+(365*2)","v":"2014-01-06T00:21:36"},32000]
[1091,"Darcy","Capuano","P","651-32-4195","Line Worker","222 1/2 Windsor","Ludlow","MA","01056","589-9511","Production",{"$f":"(YEAR(TODAY()-YEAR(Sheet1!B90)))+Sheet1!B90-365*3","v":"1975-05-08"},{"$f":"(YEAR(TODAY()-YEAR(Sheet1!C90))/1000*365)+Sheet1!C90+(365*2)","v":"2010-11-28T00:21:36"},33000]
[1094,"Hugo","Nguyen","A","413-24-9879","Vice President","P.O. Box 357","Northampton","MA","01061-0357","586-7373","Production",{"$f":"(YEAR(TODAY()-YEAR(Sheet1!B93)))+Sheet1!B93-365*3","v":"1976-04-23"},{"$f":"(YEAR(TODAY()-YEAR(Sheet1!C93))/1000*365)+Sheet1!C93+(365*2)","v":"2013-03-31T00:21:36"},61000]
[1097,"Jessica","Adamczyk","D","651-65-4400","Line Worker","95 State Street P.O. Box 2679","Springfield","MA","01101","733-6688","Production",{"$f":"(YEAR(TODAY()-YEAR(Sheet1!B96)))+Sheet1!B96-365*3","v":"1976-12-13"},{"$f":"(YEAR(TODAY()-YEAR(Sheet1!C96))/1000*365)+Sheet1!C96+(365*2)","v":"2011-01-01T00:21:36"},33000]
[1104,"William","Arnold","C","324-65-4132","Line Worker","55 State Street","Springfield","MA","01103","734-6418","Production",{"$f":"(YEAR(TODAY()-YEAR(Sheet1!B103)))+Sheet1!B103-365*3","v":"1978-02-18"},{"$f":"(YEAR(TODAY()-YEAR(Sheet1!C103))/1000*365)+Sheet1!C103+(365*2)","v":"2010-01-06T00:21:36"},40500]
[1106,"Rebekah","Toth","A","543-32-1654","Line Worker","470 Main Street, P.O. Box 26","Wilbraham","MA","01095","596-3807","Production",{"$f":"(YEAR(TODAY()-YEAR(Sheet1!B105)))+Sheet1!B105-365*3","v":"1978-07-04"},{"$f":"(YEAR(TODAY()-YEAR(Sheet1!C105))/1000*365)+Sheet1!C105+(365*2)","v":"2013-08-25T00:21:36"},46000]
[1107,"Julie","Boyd","L","654-61-3216","Line Worker","145 Shaker Road","East Longmeadow","MA","01028","525-6832","Production",{"$f":"(YEAR(TODAY()-YEAR(Sheet1!B106)))+Sheet1!B106-365*3","v":"1978-09-19"},{"$f":"(YEAR(TODAY()-YEAR(Sheet1!C106))/1000*365)+Sheet1!C106+(365*2)","v":"2012-03-25T00:21:36"},33000]
[1108,"Lyndsey","Bartlett","R","165-79-8761","Line Worker","117 Park Avenue","W. Springfield","MA","01089","781-5480","Production",{"$f":"(YEAR(TODAY()-YEAR(Sheet1!B107)))+Sheet1!B107-365*3","v":"1978-10-04"},{"$f":"(YEAR(TODAY()-YEAR(Sheet1!C107))/1000*365)+Sheet1!C107+(365*2)","v":"2012-01-11T00:21:36"},32000]
[1110,"John","Fenstermacher","K","432-13-2654","Line Worker","361 Whitney Ave","Holyoke","MA","01040-2744","784-2000","Production",{"$f":"(YEAR(TODAY()-YEAR(Sheet1!B109)))+Sheet1!B109-365*3","v":"1978-12-16"},{"$f":"(YEAR(TODAY()-YEAR(Sheet1!C109))/1000*365)+Sheet1!C109+(365*2)","v":"2012-11-30T00:21:36"},27800]
[1112,"Lia","Walker","O","485-33-2465","Line Worker","525 Springfield Street","Feeding Hills","MA","01030","789-3995","Production",{"$f":"(YEAR(TODAY()-YEAR(Sheet1!B111)))+Sheet1!B111-365*3","v":"1979-10-01"},{"$f":"(YEAR(TODAY()-YEAR(Sheet1!C111))/1000*365)+Sheet1!C111+(365*2)","v":"2010-07-22T00:21:36"},27800]
[1114,"Elena","Zamponeski","C","213-24-6565","Line Worker","42 Hardy Street","Springfield","MA","01129","584-5258","Production",{"$f":"(YEAR(TODAY()-YEAR(Sheet1!B113)))+Sheet1!B113-365*3","v":"1980-05-27"},{"$f":"(YEAR(TODAY()-YEAR(Sheet1!C113))/1000*365)+Sheet1!C113+(365*2)","v":"2012-04-25T00:21:36"},35000]
[1116,"Brian","Starkins","E","324-65-4632","Line Worker","959 Main Street","Springfield","MA","01101-2979","733-3131","Production",{"$f":"(YEAR(TODAY()-YEAR(Sheet1!B115)))+Sheet1!B115-365*3","v":"1980-07-06"},{"$f":"(YEAR(TODAY()-YEAR(Sheet1!C115))/1000*365)+Sheet1!C115+(365*2)","v":"2010-06-15T00:21:36"},40500]
[1117,"Edward","Biagiarelli",null,"324-65-4651","Line Worker","110 Elm Street","W. Springfield","MA","01089","737-3539","Production",{"$f":"(YEAR(TODAY()-YEAR(Sheet1!B31)))+Sheet1!B31-365*3","v":"1980-07-12"},{"$f":"(YEAR(TODAY()-YEAR(Sheet1!C31))/1000*365)+Sheet1!C31+(365*2)","v":"2013-11-11T00:21:36"},40500]
[1118,"James","Lau","W","465-32-1354","Line Worker","1380 Main Street","Springfield","MA","01103-1616","781-0671","Production",{"$f":"(YEAR(TODAY()-YEAR(Sheet1!B117)))+Sheet1!B117-365*3","v":"1980-11-09"},{"$f":"(YEAR(TODAY()-YEAR(Sheet1!C117))/1000*365)+Sheet1!C117+(365*2)","v":"2012-10-13T00:21:36"},27800]
[1119,"Meaghan","South",null,"316-55-3132","Line Worker","180 Denslow Road, Box 469","East Longmeadow","MA","01028","525-3444","Production",{"$f":"(YEAR(TODAY()-YEAR(Sheet1!B153)))+Sheet1!B153-365*3","v":"1981-03-17"},{"$f":"(YEAR(TODAY()-YEAR(Sheet1!C153))/1000*365)+Sheet1!C153+(365*2)","v":"2014-05-13T00:21:36"},40500]
[1123,"Ernest","Akerley","Y","198-78-9121","Line Worker","1691 Main Street","Springfield","MA","01103","736-6785","Production",{"$f":"(YEAR(TODAY()-YEAR(Sheet1!B122)))+Sheet1!B122-365*3","v":"1981-07-11"},{"$f":"(YEAR(TODAY()-YEAR(Sheet1!C122))/1000*365)+Sheet1!C122+(365*2)","v":"2012-03-27T00:21:36"},32000]
[1127,"Lisa","Cassin","T","164-10-0416","Line Worker","103 Van Deene Avenue, Box 339","W. Springfield","MA","01090-0339","781-8711","Production",{"$f":"(YEAR(TODAY()-YEAR(Sheet1!B126)))+Sheet1!B126-365*3","v":"1982-04-03"},{"$f":"(YEAR(TODAY()-YEAR(Sheet1!C126))/1000*365)+Sheet1!C126+(365*2)","v":"2013-07-16T00:21:36"},32000]
[1129,"Shohreh","Bourbeau","R","654-13-2132","Line Worker","55 State Street","Springfield","MA","01103","739-5803","Production",{"$f":"(YEAR(TODAY()-YEAR(Sheet1!B128)))+Sheet1!B128-365*3","v":"1982-06-21"},{"$f":"(YEAR(TODAY()-YEAR(Sheet1!C128))/1000*365)+Sheet1!C128+(365*2)","v":"2010-07-27T00:21:36"},33000]
[1130,"Karen","Gasior","E","651-32-4656","Line Worker","30 Locust Street, Box 5001","Northampton","MA","01061-5001","586-5555","Production",{"$f":"(YEAR(TODAY()-YEAR(Sheet1!B137)))+Sheet1!B137-365*3","v":"1982-11-23"},{"$f":"(YEAR(TODAY()-YEAR(Sheet1!C137))/1000*365)+Sheet1!C137+(365*2)","v":"2014-06-13T00:21:36"},33000]
[1132,"Sandra","Griffin",null,"498-79-8143","Line Worker","One Monarch Place","Springfield","MA","01101","781-6964","Production",{"$f":"(YEAR(TODAY()-YEAR(Sheet1!B131)))+Sheet1!B131-365*3","v":"1983-01-04"},{"$f":"(YEAR(TODAY()-YEAR(Sheet1!C131))/1000*365)+Sheet1!C131+(365*2)","v":"2010-03-26T00:21:36"},27800]
[1133,"Mikal","Littman","C","135-46-4321","Line Worker","136 Dwight Road","Longmeadow","MA","01106","567-3343","Production",{"$f":"(YEAR(TODAY()-YEAR(Sheet1!B132)))+Sheet1!B132-365*3","v":"1983-04-07"},{"$f":"(YEAR(TODAY()-YEAR(Sheet1!C132))/1000*365)+Sheet1!C132+(365*2)","v":"2009-01-04T00:21:36"},32000]
[1135,"Stacy","Zachary","A","065-40-4106","Line Worker","Wilbraham Road","Wilbraham","MA","01095","596-6992","Production",{"$f":"(YEAR(TODAY()-YEAR(Sheet1!B134)))+Sheet1!B134-365*3","v":"1983-08-16"},{"$f":"(YEAR(TODAY()-YEAR(Sheet1!C134))/1000*365)+Sheet1!C134+(365*2)","v":"2009-11-02T00:21:36"},25000]
[1136,"Sandra","Crossman","P","543-13-2432","Line Worker","771 Main Street","Wilbraham","MA","01095","596-3300","Production",{"$f":"(YEAR(TODAY()-YEAR(Sheet1!B135)))+Sheet1!B135-365*3","v":"1984-01-05"},{"$f":"(YEAR(TODAY()-YEAR(Sheet1!C135))/1000*365)+Sheet1!C135+(365*2)","v":"2010-01-05T00:21:36"},46000]
[1137,"Paul","Shen","R","321-30-1326","Line Worker","One Monarch Place, Box 2314","Springfield","MA","01101","781-6964","Production",{"$f":"(YEAR(TODAY()-YEAR(Sheet1!B136)))+Sheet1!B136-365*3","v":"1984-04-25"},{"$f":"(YEAR(TODAY()-YEAR(Sheet1!C136))/1000*365)+Sheet1!C136+(365*2)","v":"2009-10-16T00:21:36"},40500]
[1139,"F. Robert","Mcgann","H","656-54-2131","Line Worker","Amherst Road","Wilbraham","MA","01095","599-0996","Production",{"$f":"(YEAR(TODAY()-YEAR(Sheet1!B138)))+Sheet1!B138-365*3","v":"1984-05-07"},{"$f":"(YEAR(TODAY()-YEAR(Sheet1!C138))/1000*365)+Sheet1!C138+(365*2)","v":"2013-02-04T00:21:36"},33000]
[1140,"Joanna","Norris","T","653-32-4186","Line Worker","2377 Boston Road","Wilbraham","MA","01095","599-0919","Production",{"$f":"(YEAR(TODAY()-YEAR(Sheet1!B139)))+Sheet1!B139-365*3","v":"1984-05-30"},{"$f":"(YEAR(TODAY()-YEAR(Sheet1!C139))/1000*365)+Sheet1!C139+(365*2)","v":"2012-08-03T00:21:36"},33000]
[1141,"Sarah","Aquadro",null,"486-13-3654","Line Worker","P.O. Box 26","Hatfield","MA","01038","247-9429","Production",{"$f":"(YEAR(TODAY()-YEAR(Sheet1!B140)))+Sheet1!B140-365*3","v":"1984-06-04"},{"$f":"(YEAR(TODAY()-YEAR(Sheet1!C140))/1000*365)+Sheet1!C140+(365*2)","v":"2010-09-07T00:21:36"},27800]
[1145,"Jill","Devany",null,"651-13-2165","Line Worker","180 Westfield Street","W. Springfield","MA","01090-1180","785-1611","Production",{"$f":"(YEAR(TODAY()-YEAR(Sheet1!B144)))+Sheet1!B144-365*3","v":"1985-03-10"},{"$f":"(YEAR(TODAY()-YEAR(Sheet1!C144))/1000*365)+Sheet1!C144+(365*2)","v":"2009-05-19T00:21:36"},33000]
[1146,"Donald","Chotiner-Gardner","D","654-65-1657","Line Worker","345 Broadway","Springfield","MA","01115","781-6850","Production",{"$f":"(YEAR(TODAY()-YEAR(Sheet1!B145)))+Sheet1!B145-365*3","v":"1986-02-06"},{"$f":"(YEAR(TODAY()-YEAR(Sheet1!C145))/1000*365)+Sheet1!C145+(365*2)","v":"2013-06-23T00:21:36"},33000]
[1149,"Jennifer","Morisi","T","321-65-4651","Line Worker","1500 Main Street, Suite 2108","Springfield","MA","01115","739-6931","Production",{"$f":"(YEAR(TODAY()-YEAR(Sheet1!B148)))+Sheet1!B148-365*3","v":"1986-04-06"},{"$f":"(YEAR(TODAY()-YEAR(Sheet1!C148))/1000*365)+Sheet1!C148+(365*2)","v":"2013-05-31T00:21:36"},40500]
[1150,"Elisabeth","Sweeney","L","968-76-5137","Line Worker","1 Green Street","Belchertown","MA","01075","773-9913","Production",{"$f":"(YEAR(TODAY()-YEAR(Sheet1!B116)))+Sheet1!B116-365*3","v":"1986-05-01"},{"$f":"(YEAR(TODAY()-YEAR(Sheet1!C116))/1000*365)+Sheet1!C116+(365*2)","v":"2014-07-06T00:21:36"},28500]
[1152,"Edward","Longo",null,"653-23-2165","Line Worker","1350 Main Street, Box 1631","Springfield","MA","01102-1631","730-6300","Production",{"$f":"(YEAR(TODAY()-YEAR(Sheet1!B151)))+Sheet1!B151-365*3","v":"1986-05-31"},{"$f":"(YEAR(TODAY()-YEAR(Sheet1!C151))/1000*365)+Sheet1!C151+(365*2)","v":"2010-07-19T00:21:36"},33000]
[1154,"John","Huiting",null,"321-53-4656","Line Worker","60 North Main Street","East Longmeadow","MA","01028","525-8800","Production",{"$f":"(YEAR(TODAY()-YEAR(Sheet1!B13)))+Sheet1!B13-365*3","v":"1986-11-07"},{"$f":"(YEAR(TODAY()-YEAR(Sheet1!C13))/1000*365)+Sheet1!C13+(365*2)","v":"2013-11-16T00:21:36"},40500]
[1155,"Kim","Shiner","B","321-65-1465","Line Worker","129 Church Street","Chicopee","MA","01020-1814","594-5323","Production",{"$f":"(YEAR(TODAY()-YEAR(Sheet1!B154)))+Sheet1!B154-365*3","v":"1986-12-21"},{"$f":"(YEAR(TODAY()-YEAR(Sheet1!C154))/1000*365)+Sheet1!C154+(365*2)","v":"2012-04-06T00:21:36"},40500]
[1156,"Alice","Amodio","T","065-46-5416","Line Worker","280 North Main Street, Box 186","East Longmeadow","MA","01028","525-6601","Production",{"$f":"(YEAR(TODAY()-YEAR(Sheet1!B155)))+Sheet1!B155-365*3","v":"1986-12-31"},{"$f":"(YEAR(TODAY()-YEAR(Sheet1!C155))/1000*365)+Sheet1!C155+(365*2)","v":"2011-03-18T00:21:36"},27500]
[1157,"Terence","Cameron","P","563-21-3546","Line Worker","430 Main Street, Box 412","Agawam","MA","01001","786-2510","Production",{"$f":"(YEAR(TODAY()-YEAR(Sheet1!B156)))+Sheet1!B156-365*3","v":"1987-01-30"},{"$f":"(YEAR(TODAY()-YEAR(Sheet1!C156))/1000*365)+Sheet1!C156+(365*2)","v":"2010-01-01T00:21:36"},46000]
[1158,"Sloane","Havican",null,"321-11-3210","Line Worker","436 Main Street","W. Springfield","MA","01089","739-7088","Production",{"$f":"(YEAR(TODAY()-YEAR(Sheet1!B34)))+Sheet1!B34-365*3","v":"1987-02-10"},{"$f":"(YEAR(TODAY()-YEAR(Sheet1!C34))/1000*365)+Sheet1!C34+(365*2)","v":"2013-11-10T00:21:36"},40500]
[1159,"James","Boates","E","432-16-5652","Line Worker","82 Main Street","W. Springfield","MA","01089","781-3765","Production",{"$f":"(YEAR(TODAY()-YEAR(Sheet1!B158)))+Sheet1!B158-365*3","v":"1987-05-01"},{"$f":"(YEAR(TODAY()-YEAR(Sheet1!C158))/1000*365)+Sheet1!C158+(365*2)","v":"2013-02-02T00:21:36"},27800]
[1160,"Carrie","Stepheson","L","321-65-4561","Line Worker","16 Savory Drive","Chicopee","MA","01020","594-2070","Production",{"$f":"(YEAR(TODAY()-YEAR(Sheet1!B159)))+Sheet1!B159-365*3","v":"1987-08-13"},{"$f":"(YEAR(TODAY()-YEAR(Sheet1!C159))/1000*365)+Sheet1!C159+(365*2)","v":"2010-10-25T00:21:36"},40500]
[1161,"Douglas","Dunklee","T","825-96-5335","Line Worker","P.O. Box 399","Westfield","MA","01085-0399","568-8641","Production",{"$f":"(YEAR(TODAY()-YEAR(Sheet1!B160)))+Sheet1!B160-365*3","v":"1988-01-13"},{"$f":"(YEAR(TODAY()-YEAR(Sheet1!C160))/1000*365)+Sheet1!C160+(365*2)","v":"2013-02-02T00:21:36"},26000]
[1162,"Brandi","Lieberman","L","913-24-6541","Line Worker","3 Wenonah Place","Longmeadow","MA","01106","567-5060","Production",{"$f":"(YEAR(TODAY()-YEAR(Sheet1!B161)))+Sheet1!B161-365*3","v":"1988-01-29"},{"$f":"(YEAR(TODAY()-YEAR(Sheet1!C161))/1000*365)+Sheet1!C161+(365*2)","v":"2010-02-18T00:21:36"},28500]
[1164,"Sara","Norbis",null,"654-86-4321","Line Worker","1380 Main Street","Springfield","MA","01103","736-2066","Production",{"$f":"(YEAR(TODAY()-YEAR(Sheet1!B163)))+Sheet1!B163-365*3","v":"1988-08-16"},{"$f":"(YEAR(TODAY()-YEAR(Sheet1!C163))/1000*365)+Sheet1!C163+(365*2)","v":"2012-08-07T00:21:36"},33000]
[1165,"Mark","Briggs","W","823-23-1956","Line Worker","63 Main Street, P.O. Box 37","Florence","MA","01060","584-1970","Production",{"$f":"(YEAR(TODAY()-YEAR(Sheet1!B164)))+Sheet1!B164-365*3","v":"1988-11-08"},{"$f":"(YEAR(TODAY()-YEAR(Sheet1!C164))/1000*365)+Sheet1!C164+(365*2)","v":"2010-06-25T00:21:36"},26000]
[1166,"Maria","Read",null,"655-32-1165","Line Worker","47 Norwood Terrace","Holyoke","MA","01040","594-2222","Production",{"$f":"(YEAR(TODAY()-YEAR(Sheet1!B62)))+Sheet1!B62-365*3","v":"1988-12-04"},{"$f":"(YEAR(TODAY()-YEAR(Sheet1!C62))/1000*365)+Sheet1!C62+(365*2)","v":"2014-09-25T00:21:36"},33000]
[1167,"Elizabeth","Spenelli","J","986-76-5186","Line Worker","79 Broad Street","Westfield","MA","01085","562-5555","Production",{"$f":"(YEAR(TODAY()-YEAR(Sheet1!B149)))+Sheet1!B149-365*3","v":"1989-01-08"},{"$f":"(YEAR(TODAY()-YEAR(Sheet1!C149))/1000*365)+Sheet1!C149+(365*2)","v":"2014-05-18T00:21:36"},28500]
[1168,"Cynthia","Estvanik","D","123-10-1656","Line Worker","1341 Main Street","Springfield","MA","01103","736-6712","Production",{"$f":"(YEAR(TODAY()-YEAR(Sheet1!B167)))+Sheet1!B167-365*3","v":"1989-03-08"},{"$f":"(YEAR(TODAY()-YEAR(Sheet1!C167))/1000*365)+Sheet1!C167+(365*2)","v":"2011-12-17T00:21:36"},32000]
[1169,"Ryoko","Hemmelgarn","E","432-16-5132","Line Worker","54 Longview Drive","Longmeadow","MA","01106","739-6921","Production",{"$f":"(YEAR(TODAY()-YEAR(Sheet1!B168)))+Sheet1!B168-365*3","v":"1989-04-03"},{"$f":"(YEAR(TODAY()-YEAR(Sheet1!C168))/1000*365)+Sheet1!C168+(365*2)","v":"2010-04-21T00:21:36"},27800]
[1170,"James","Austin","G","321-65-4065","Line Worker","11 Bach Lane","South Hadley","MA","01075","534-3485","Production",{"$f":"(YEAR(TODAY()-YEAR(Sheet1!B205)))+Sheet1!B205-365*3","v":"1989-05-21"},{"$f":"(YEAR(TODAY()-YEAR(Sheet1!C205))/1000*365)+Sheet1!C205+(365*2)","v":"2014-01-19T00:21:36"},40500]
[1171,"Hillary","Currie","P","465-13-2495","Line Worker","75 North Main Street","East Longmeadow","MA","01028","525-1721","Production",{"$f":"(YEAR(TODAY()-YEAR(Sheet1!B170)))+Sheet1!B170-365*3","v":"1989-06-22"},{"$f":"(YEAR(TODAY()-YEAR(Sheet1!C170))/1000*365)+Sheet1!C170+(365*2)","v":"2010-11-21T00:21:36"},27800]
[1172,"Silvio","Libera","F","654-65-1654","Line Worker","1200 Graceland Road","Wilbraham","MA","01095","599-0919","Production",{"$f":"(YEAR(TODAY()-YEAR(Sheet1!B171)))+Sheet1!B171-365*3","v":"1989-12-27"},{"$f":"(YEAR(TODAY()-YEAR(Sheet1!C171))/1000*365)+Sheet1!C171+(365*2)","v":"2010-01-19T00:21:36"},33000]
[1173,"Kristen","Spingler","V","461-40-4165","Line Worker","1500 Main Street, Suite 2108","Springfield","MA","01115","739-6931","Production",{"$f":"(YEAR(TODAY()-YEAR(Sheet1!B172)))+Sheet1!B172-365*3","v":"1990-01-14"},{"$f":"(YEAR(TODAY()-YEAR(Sheet1!C172))/1000*365)+Sheet1!C172+(365*2)","v":"2009-02-04T00:21:36"},27800]
[1175,"Sally","Lacroix","A","534-65-7983","Line Worker","32 Hampden Street","Springfield","MA","01103-1212","737-2661","Production",{"$f":"(YEAR(TODAY()-YEAR(Sheet1!B174)))+Sheet1!B174-365*3","v":"1990-06-19"},{"$f":"(YEAR(TODAY()-YEAR(Sheet1!C174))/1000*365)+Sheet1!C174+(365*2)","v":"2013-05-17T00:21:36"},46000]
[1181,"Kristina","Kiely","K","798-41-3168","Line Worker","264 North Main Street","East Longmeadow","MA","01028","525-8220","Production",{"$f":"(YEAR(TODAY()-YEAR(Sheet1!B179)))+Sheet1!B179-365*3","v":"1991-06-05"},{"$f":"(YEAR(TODAY()-YEAR(Sheet1!C179))/1000*365)+Sheet1!C179+(365*2)","v":"2010-03-15T00:21:36"},39500]
[1185,"Zehra","Phillips, Jr.","E","104-65-4651","Line Worker","1325 Springfield Street","Feeding Hills","MA","01030","786-1720","Production",{"$f":"(YEAR(TODAY()-YEAR(Sheet1!B182)))+Sheet1!B182-365*3","v":"1992-06-26"},{"$f":"(YEAR(TODAY()-YEAR(Sheet1!C182))/1000*365)+Sheet1!C182+(365*2)","v":"2010-03-25T00:21:36"},32000]
[1186,"William","Zala","U","321-32-3211","Line Worker","1500 Main Street, Suite 2108","Springfield","MA","01115","739-6931","Production",{"$f":"(YEAR(TODAY()-YEAR(Sheet1!B183)))+Sheet1!B183-365*3","v":"1992-08-10"},{"$f":"(YEAR(TODAY()-YEAR(Sheet1!C183))/1000*365)+Sheet1!C183+(365*2)","v":"2011-03-05T00:21:36"},40500]
[1189,"Tamara","Adelmann",null,"545-43-2132","Line Worker","428 Brush Hill Avenue","W. Springfield","MA","01089","732-7568","Production",{"$f":"(YEAR(TODAY()-YEAR(Sheet1!B186)))+Sheet1!B186-365*3","v":"1993-02-01"},{"$f":"(YEAR(TODAY()-YEAR(Sheet1!C186))/1000*365)+Sheet1!C186+(365*2)","v":"2009-10-15T00:21:36"},46000]
[1190,"Olivia","Dellamechi","J","657-98-1324","Line Worker","P.O. Box 1308","Holyoke","MA","01040-1308","536-3112","Production",{"$f":"(YEAR(TODAY()-YEAR(Sheet1!B187)))+Sheet1!B187-365*3","v":"1993-02-21"},{"$f":"(YEAR(TODAY()-YEAR(Sheet1!C187))/1000*365)+Sheet1!C187+(365*2)","v":"2009-08-19T00:21:36"},33000]
[1191,"Pierre","Nazareth","F","324-16-3310","Line Worker","202 Exchange Street","Chicopee","MA","01013","592-2714","Production",{"$f":"(YEAR(TODAY()-YEAR(Sheet1!B188)))+Sheet1!B188-365*3","v":"1993-03-29"},{"$f":"(YEAR(TODAY()-YEAR(Sheet1!C188))/1000*365)+Sheet1!C188+(365*2)","v":"2010-06-24T00:21:36"},40500]
[1192,"Roland","Oakleaf","F","651-32-1984","Line Worker","54 Elm Street","W. Springfield","MA","01089","737-2604","Production",{"$f":"(YEAR(TODAY()-YEAR(Sheet1!B189)))+Sheet1!B189-365*3","v":"1994-05-14"},{"$f":"(YEAR(TODAY()-YEAR(Sheet1!C189))/1000*365)+Sheet1!C189+(365*2)","v":"2013-07-22T00:21:36"},33000]
[1193,"Milia","Rosenbaker","E","321-65-7987","Line Worker","181 Park Avenue, P.O. Box 471","W. Springfield","MA","01090","739-2647","Production",{"$f":"(YEAR(TODAY()-YEAR(Sheet1!B190)))+Sheet1!B190-365*3","v":"1994-08-08"},{"$f":"(YEAR(TODAY()-YEAR(Sheet1!C190))/1000*365)+Sheet1!C190+(365*2)","v":"2012-03-28T00:21:36"},40500]
[1195,"Gabby","Grave","I","324-65-4324","Line Worker","246 Park Street","W. Springfield","MA","01089","781-2410","Production",{"$f":"(YEAR(TODAY()-YEAR(Sheet1!B192)))+Sheet1!B192-365*3","v":"1994-11-05"},{"$f":"(YEAR(TODAY()-YEAR(Sheet1!C192))/1000*365)+Sheet1!C192+(365*2)","v":"2009-07-21T00:21:36"},40500]
[1196,"Kara","Caplin","D","321-65-7321","Line Worker","8 White Street","Ludlow","MA","01056","583-3501","Production",{"$f":"(YEAR(TODAY()-YEAR(Sheet1!B193)))+Sheet1!B193-365*3","v":"1995-04-29"},{"$f":"(YEAR(TODAY()-YEAR(Sheet1!C193))/1000*365)+Sheet1!C193+(365*2)","v":"2010-03-18T00:21:36"},40500]
[1198,"Larry","Curry",null,"954-32-1324","Line Worker","P.O. Box 9031","Springfield","MA","01102","788-4531","Production",{"$f":"(YEAR(TODAY()-YEAR(Sheet1!B195)))+Sheet1!B195-365*3","v":"1995-06-23"},{"$f":"(YEAR(TODAY()-YEAR(Sheet1!C195))/1000*365)+Sheet1!C195+(365*2)","v":"2010-10-24T00:21:36"},28500]
[1199,"Marcus","Varade","D","654-65-1324","Line Worker","507 Belmont Avenue","Springfield","MA","01108","781-3045","Production",{"$f":"(YEAR(TODAY()-YEAR(Sheet1!B196)))+Sheet1!B196-365*3","v":"1995-06-29"},{"$f":"(YEAR(TODAY()-YEAR(Sheet1!C196))/1000*365)+Sheet1!C196+(365*2)","v":"2010-09-22T00:21:36"},33000]
[1200,"Tuere","Mandile","S","651-32-1545","Production Supervisor","167 Dwight Road","Longmeadow","MA","01106","567-0000","Production",{"$f":"(YEAR(TODAY()-YEAR(Sheet1!B197)))+Sheet1!B197-365*3","v":"1995-07-24"},{"$f":"(YEAR(TODAY()-YEAR(Sheet1!C197))/1000*365)+Sheet1!C197+(365*2)","v":"2010-01-24T00:21:36"},33000]
[1201,"Christine","Farnsworth",null,"432-16-5465","Line Worker","43 Center Street","Northampton","MA","01060","586-5555","Production",{"$f":"(YEAR(TODAY()-YEAR(Sheet1!B198)))+Sheet1!B198-365*3","v":"1995-09-06"},{"$f":"(YEAR(TODAY()-YEAR(Sheet1!C198))/1000*365)+Sheet1!C198+(365*2)","v":"2011-11-16T00:21:36"},27800]
[1203,"Heba","Alderman","T","321-31-3213","Line Worker","30 Locust Street, Box 5001","Northampton","MA","01061-5001","586-5555","Production",{"$f":"(YEAR(TODAY()-YEAR(Sheet1!B200)))+Sheet1!B200-365*3","v":"1995-10-24"},{"$f":"(YEAR(TODAY()-YEAR(Sheet1!C200))/1000*365)+Sheet1!C200+(365*2)","v":"2012-07-22T00:21:36"},40500]
[1204,"Peter","Bumrungkit","R","465-32-1654","Line Worker","103 Van Deene Avenue","W. Springfield","MA","01089-3215","781-8711","Production",{"$f":"(YEAR(TODAY()-YEAR(Sheet1!B201)))+Sheet1!B201-365*3","v":"1995-12-08"},{"$f":"(YEAR(TODAY()-YEAR(Sheet1!C201))/1000*365)+Sheet1!C201+(365*2)","v":"2010-09-29T00:21:36"},27800]
[1205,"Christina","Le","S","001-22-7711","Line Worker","83 Main Street, P.O. Box 359","Bondsville","MA","01009","283-7075","Production",{"$f":"(YEAR(TODAY()-YEAR(Sheet1!B202)))+Sheet1!B202-365*3","v":"1995-12-08"},{"$f":"(YEAR(TODAY()-YEAR(Sheet1!C202))/1000*365)+Sheet1!C202+(365*2)","v":"2013-02-07T00:21:36"},23900]
[1207,"Sumner","Martwiset","D","165-65-6513","Line Worker","30 Locust Street, Box 5001","Northampton","MA","01061-5001","586-5555","Production",{"$f":"(YEAR(TODAY()-YEAR(Sheet1!B204)))+Sheet1!B204-365*3","v":"1996-02-13"},{"$f":"(YEAR(TODAY()-YEAR(Sheet1!C204))/1000*365)+Sheet1!C204+(365*2)","v":"2011-03-08T00:21:36"},32000]
[1209,"Russell","Alam","T","016-51-3216","Line Worker","2 South Bridge Drive","Agawam","MA","01001","786-8961","Production",{"$f":"(YEAR(TODAY()-YEAR(Sheet1!B206)))+Sheet1!B206-365*3","v":"1996-03-20"},{"$f":"(YEAR(TODAY()-YEAR(Sheet1!C206))/1000*365)+Sheet1!C206+(365*2)","v":"2011-02-20T00:21:36"},29800]
[1210,"David","Griffith","O","984-32-1326","Foreman","Rocky Hill Road","East Longmeadow","MA","-01028","525-4301","Production",{"$f":"(YEAR(TODAY()-YEAR(Sheet1!B207)))+Sheet1!B207-365*3","v":"1996-03-24"},{"$f":"(YEAR(TODAY()-YEAR(Sheet1!C207))/1000*365)+Sheet1!C207+(365*2)","v":"2011-03-10T00:21:36"},28500]
[1211,"Bronwyn","Froebel","R","132-46-5432","Foreman","840 Liberty Street","Springfield","MA","01118","781-0630","Production",{"$f":"(YEAR(TODAY()-YEAR(Sheet1!B208)))+Sheet1!B208-365*3","v":"1996-07-26"},{"$f":"(YEAR(TODAY()-YEAR(Sheet1!C208))/1000*365)+Sheet1!C208+(365*2)","v":"2012-10-20T00:21:36"},32000]
[1212,"Thomas","Tompkins","S","324-31-6546","Line Worker","97 Center Street","Chicopee","MA","01013-1682","594-5984","Production",{"$f":"(YEAR(TODAY()-YEAR(Sheet1!B209)))+Sheet1!B209-365*3","v":"1996-08-21"},{"$f":"(YEAR(TODAY()-YEAR(Sheet1!C209))/1000*365)+Sheet1!C209+(365*2)","v":"2011-07-19T00:21:36"},40500]
[1214,"Peter","Morris","E","321-98-7983","Line Worker","1555 Queen Street","Springfield","MA","01115","781-6850","Production",{"$f":"(YEAR(TODAY()-YEAR(Sheet1!B211)))+Sheet1!B211-365*3","v":"1997-02-20"},{"$f":"(YEAR(TODAY()-YEAR(Sheet1!C211))/1000*365)+Sheet1!C211+(365*2)","v":"2011-11-28T00:21:36"},40500]
[1215,"Joan","Darfoor","E","321-65-4654","Line Worker","1391 Main Street, Suite 723","Springfield","MA","01103","788-1450","Production",{"$f":"(YEAR(TODAY()-YEAR(Sheet1!B212)))+Sheet1!B212-365*3","v":"1997-03-11"},{"$f":"(YEAR(TODAY()-YEAR(Sheet1!C212))/1000*365)+Sheet1!C212+(365*2)","v":"2011-11-20T00:21:36"},40500]
[1216,"Jessica","Keefe","F","321-65-4654","Line Worker","P.O. Box 365","Chicopee","MA","01021","594-4757","Production",{"$f":"(YEAR(TODAY()-YEAR(Sheet1!B213)))+Sheet1!B213-365*3","v":"1997-03-13"},{"$f":"(YEAR(TODAY()-YEAR(Sheet1!C213))/1000*365)+Sheet1!C213+(365*2)","v":"2013-04-06T00:21:36"},40500]
[1221,"Diana-Victor","Neill","S","321-32-6510","Line Worker","56 State Street","Longmeadow","MA","01106","567-1248","Production",{"$f":"(YEAR(TODAY()-YEAR(Sheet1!B218)))+Sheet1!B218-365*3","v":"1991-12-25"},{"$f":"(YEAR(TODAY()-YEAR(Sheet1!C218))/1000*365)+Sheet1!C218+(365*2)","v":"2007-08-12T00:21:36"},40500]
[1222,"Mary","Dunphy",null,"465-41-3216","Production Supervisor","305 Bicentennial Highway","Springfield","MA","01118","733-4101","Production",{"$f":"(YEAR(TODAY()-YEAR(Sheet1!B219)))+Sheet1!B219-365*3","v":"1992-10-23"},{"$f":"(YEAR(TODAY()-YEAR(Sheet1!C219))/1000*365)+Sheet1!C219+(365*2)","v":"2003-01-12T00:21:36"},27800]
[1223,"Laura","Drake","E","321-62-1968","Line Worker","131 Dwight Street","Springfield","MA","01103-1701","788-7900","Production",{"$f":"(YEAR(TODAY()-YEAR(Sheet1!B220)))+Sheet1!B220-365*3","v":"1993-04-11"},{"$f":"(YEAR(TODAY()-YEAR(Sheet1!C220))/1000*365)+Sheet1!C220+(365*2)","v":"2008-08-21T00:21:36"},40500]
[1224,"Lawrence","Bradshaw",null,"165-46-5643","Line Worker","63 Riverside Drive","Northampton","MA","01060","586-5555","Production",{"$f":"(YEAR(TODAY()-YEAR(Sheet1!B221)))+Sheet1!B221-365*3","v":"1993-07-06"},{"$f":"(YEAR(TODAY()-YEAR(Sheet1!C221))/1000*365)+Sheet1!C221+(365*2)","v":"2008-05-20T00:21:36"},32000]
[1016,"George","Rawnsley","R","456-13-2105","Researcher","395 Pleasant Street","Northampton","MA","01060","586-5555","R&D",{"$f":"(YEAR(TODAY()-YEAR(Sheet1!B17)))+Sheet1!B17-365*3","v":"1958-07-31"},{"$f":"(YEAR(TODAY()-YEAR(Sheet1!C17))/1000*365)+Sheet1!C17+(365*2)","v":"2013-03-20T00:21:36"},27800]
[1040,"Gesheya","Stole",null,"531-65-0416","Vice President","190 Main Street","Northampton","MA","01060","584-0031","R&D",{"$f":"(YEAR(TODAY()-YEAR(Sheet1!B40)))+Sheet1!B40-365*3","v":"1964-04-18"},{"$f":"(YEAR(TODAY()-YEAR(Sheet1!C40))/1000*365)+Sheet1!C40+(365*2)","v":"2010-07-09T00:21:36"},57000]
[1180,"Emily","Teece","P","321-65-3216","Research Manager","400 North Farms Road","Northampton","MA","01060","586-5555","R&D",{"$f":"(YEAR(TODAY()-YEAR(Sheet1!B178)))+Sheet1!B178-365*3","v":"1991-02-06"},{"$f":"(YEAR(TODAY()-YEAR(Sheet1!C178))/1000*365)+Sheet1!C178+(365*2)","v":"2012-09-05T00:21:36"},40500]
[1049,"Jenny","Williams","D","326-45-6540","Salesman","300 North Main Street","Northampton","MA","01060","584-5457","Sales",{"$f":"(YEAR(TODAY()-YEAR(Sheet1!B48)))+Sheet1!B48-365*3","v":"1966-05-19"},{"$f":"(YEAR(TODAY()-YEAR(Sheet1!C48))/1000*365)+Sheet1!C48+(365*2)","v":"2010-06-05T00:21:36"},40500]
[1050,"Charles","Yap","N","465-10-4654","Salesman","125 Pleasant Street","Northampton","MA","01060","586-5555","Sales",{"$f":"(YEAR(TODAY()-YEAR(Sheet1!B49)))+Sheet1!B49-365*3","v":"1966-08-30"},{"$f":"(YEAR(TODAY()-YEAR(Sheet1!C49))/1000*365)+Sheet1!C49+(365*2)","v":"2013-04-05T00:21:36"},27800]
[1067,"Samantha","Woods",null,"135-32-1016","Salesman","Riverside Drive","Northampton","MA","01060","584-5519","Sales",{"$f":"(YEAR(TODAY()-YEAR(Sheet1!B66)))+Sheet1!B66-365*3","v":"1970-09-04"},{"$f":"(YEAR(TODAY()-YEAR(Sheet1!C66))/1000*365)+Sheet1!C66+(365*2)","v":"2011-08-01T00:21:36"},32000]
[1075,"David","Russell","F","316-32-4654","Sales Manager","50 Conz Street","Northampton","MA","01060","586-3315","Sales",{"$f":"(YEAR(TODAY()-YEAR(Sheet1!B74)))+Sheet1!B74-365*3","v":"1972-02-04"},{"$f":"(YEAR(TODAY()-YEAR(Sheet1!C74))/1000*365)+Sheet1!C74+(365*2)","v":"2009-04-12T00:21:36"},55000]
[1077,"Kevin","Fewer","H","065-46-5465","Salesman","28 Columbus Avenue","Northampton","MA","01060","586-5555","Sales",{"$f":"(YEAR(TODAY()-YEAR(Sheet1!B76)))+Sheet1!B76-365*3","v":"1972-10-13"},{"$f":"(YEAR(TODAY()-YEAR(Sheet1!C76))/1000*365)+Sheet1!C76+(365*2)","v":"2011-12-27T00:21:36"},35000]
[1082,"Karen","Haberman","E","651-65-4651","Salesman","286 Prospect Street","Northampton","MA","01060","584-7086","Sales",{"$f":"(YEAR(TODAY()-YEAR(Sheet1!B81)))+Sheet1!B81-365*3","v":"1973-12-26"},{"$f":"(YEAR(TODAY()-YEAR(Sheet1!C81))/1000*365)+Sheet1!C81+(365*2)","v":"2012-08-28T00:21:36"},33000]
[1083,"James","Goldstein","A","321-65-7986","Salesman","202 Chestnut Street","Northampton","MA","01060","586-5555","Sales",{"$f":"(YEAR(TODAY()-YEAR(Sheet1!B4)))+Sheet1!B4-365*3","v":"1974-01-17"},{"$f":"(YEAR(TODAY()-YEAR(Sheet1!C4))/1000*365)+Sheet1!C4+(365*2)","v":"2013-11-27T00:21:36"},40500]
[1148,"Nissa","Starbuck","D","065-46-5132","Salesman","Whitney Avenue","Northampton","MA","01060","586-3868","Sales",{"$f":"(YEAR(TODAY()-YEAR(Sheet1!B147)))+Sheet1!B147-365*3","v":"1986-04-02"},{"$f":"(YEAR(TODAY()-YEAR(Sheet1!C147))/1000*365)+Sheet1!C147+(365*2)","v":"2010-08-11T00:21:36"},31000]
[1194,"A.L.","Abrahamson","F","320-10-6513","Salesman","66 Beacon Street","Northampton","MA","01060","586-5555","Sales",{"$f":"(YEAR(TODAY()-YEAR(Sheet1!B191)))+Sheet1!B191-365*3","v":"1994-09-27"},{"$f":"(YEAR(TODAY()-YEAR(Sheet1!C191))/1000*365)+Sheet1!C191+(365*2)","v":"2009-07-19T00:21:36"},40500]
[1124,"Charles","Dunlop","T","416-54-3213","Shipping Clerk","163 Conz Street","Northampton","MA","01060-3848","736-0661","Shipping",{"$f":"(YEAR(TODAY()-YEAR(Sheet1!B123)))+Sheet1!B123-365*3","v":"1981-08-02"},{"$f":"(YEAR(TODAY()-YEAR(Sheet1!C123))/1000*365)+Sheet1!C123+(365*2)","v":"2014-06-27T00:21:36"},27800]
[1174,"Chelsea","Hooben","A","165-74-6516","Line Worker","407 Poole Street","Ludlow","MA","01056","583-4752","Shipping",{"$f":"(YEAR(TODAY()-YEAR(Sheet1!B214)))+Sheet1!B214-365*3","v":"1990-02-02"},{"$f":"(YEAR(TODAY()-YEAR(Sheet1!C214))/1000*365)+Sheet1!C214+(365*2)","v":"2014-01-19T00:21:36"},32000]
[1202,"Jennifer","Shumakker",null,"657-98-7432","Line Worker","2 Allen Street","Hampden","MA","01036","566-5584","Shipping",{"$f":"(YEAR(TODAY()-YEAR(Sheet1!B176)))+Sheet1!B176-365*3","v":"1995-10-22"},{"$f":"(YEAR(TODAY()-YEAR(Sheet1!C176))/1000*365)+Sheet1!C176+(365*2)","v":"2014-02-09T00:21:36"},33000]
[1206,"Heather","Wise","D","651-34-8665","Line Worker","181 Park Avenue","W. Springfield","MA","01089","737-3139","Shipping",{"$f":"(YEAR(TODAY()-YEAR(Sheet1!B203)))+Sheet1!B203-365*3","v":"1996-01-23"},{"$f":"(YEAR(TODAY()-YEAR(Sheet1!C203))/1000*365)+Sheet1!C203+(365*2)","v":"2013-04-16T00:21:36"},33000]
[1218,"John","Chace","P","654-83-2132","Line Worker","1500 Main Street, Box 15349","Springfield","MA","01115","781-6850","Shipping",{"$f":"(YEAR(TODAY()-YEAR(Sheet1!B89)))+Sheet1!B89-365*3","v":"1997-04-27"},{"$f":"(YEAR(TODAY()-YEAR(Sheet1!C89))/1000*365)+Sheet1!C89+(365*2)","v":"2014-08-09T00:21:36"},33000]
[]
[]
[]
[]
[]
[]
[]
[]
[]
[]
[]
[]
[]
[]
[]
[]
[]
[]
[]
[]
[]
[]
[]
[]
[]
[]
[]
[]
[]
[]
[]
[]
[]
[]
[]
[]
[]
[]
[]
[]
[]
[]
[]
[]
[]
[]
[]
[]
[]
[]
[]
[]
[]
[]
[]
[]
[]
[]
[]
[]
[]
[]
[]
[]
[]
[]
[]
[]
[]
[]
[]
[]
[]
[]
[]
[]
[]
[]
[]
[]
[]
[]
[]
[]
[]
[]
[]
[]
[]
[]
[]
[]
[]
[]
[]
[]
[]
[]
[]
[]
[]
[]
[]
[]
[]
[]
[]
[]
[]
[]
[]
[]
[]
[]
[]
[]
[]
[]
[]
[]
[]
[]
[]
[]
[]
[]
[]
[]
[]
[]
[]
[]
[]
[]
[]
[]
[]
[]
[]
[]
[]
[]
[]
[]
[]
[]
[]
[]
[]
[]
[]
[]
[]
[]
[]
[]
[]
[]
[]
[]
[]
[]
[]
[]
[]
[]
[]
[]
[]
[]
[]
[]
[]
[]
[]
[]
[]
[]
[]
[]
[]
[]
[]
[]
[]
[]
[]
[]
[]
[]
[]
[]
[]
[]
[]
[]
[]
[]
[]
[]
[]
[]
[]
[]
[]
[]
[]
[]
[]
[]
[]
[]
[]
[]
[]
[]
[]
[]
[]
[]
[]
[]
[]
[]
[]
[]
[]
[]
[]
[]
[]
[]
[]
[]
[]
[]
[]
[]
[]
[]
[]
[]
[]
[]
[]
[]
[]
[]
[]
[]
[]
[]
[]
[]
[]
[]
[]
[]
[]
[]
[]
[]
[]
[]
[]
[]
[]
[]
[]
[]
[]
[]
[]
[]
[]
[]
[]
[]
[]
[]
[]
[]
[]
[]
[]
[]
[]
[]
[]
[]
[]
[]
[]
[]
[]
[]
[]
[]
[]
[]
[]
[]
[]
[]
[]
[]
[]
[]
[]
[]
[]
[]
[]
[]
[]
[]
[]
[]
[]
[]
[]
[]
[]
[]
[]
[]
[]
[]
[]
[]
[]
[]
[]
[]
[]
[]
[]
[]
[]
[]
[]
[]
[]
[]
[]
[]
[]
[]
[]
[]
[]
[]
[]
[]
[]
[]
[]
[]
[]
[]
[]
[]
[]
[]
[]
[]
[]
[]
[]
[]
[]
[]
[]
[]
[]
[]
[]
[]
[]
[]
[]
[]
[]
[]
[]
[]
[]
[]
[]
[]
[]
[]
[]
[]
[]
[]
[]
[]
[]
[]
[]
[]
[]
[]
[]
[]
[]
[]
[]
[]
[]
[]
[]
[]
[]
[]
[]
[]
[]
[]
[]
[]
[]
[]
[]
[]
[]
[]
[]
[]
[]
[]
[]
[]
[]
[]
[]
[]
[]
[]
[]
[]
[]
[]
[]
[]
[]
[]
[]
[]
[]
[]
[]
[]
[]
[]
[]
[]
[]
[]
[]
[]
[]
[]
[]
[]
[]
[]
[]
[]
[]
[]
[]
[]
[]
[]
[]
[]
[]
[]
[]
[]
[]
[]
[]
[]
[]
[]
[]
[]
[]
[]
[]
[]
[]
[]
[]
[]
[]
[]
[]
[]
[]
[]
[]
[]
[]
[]
[]
[]
[]
[]
[]
[]
[]
[]
[]
[]
[]
[]
[]
[]
[]
[]
[]
[]
[]
[]
[]
[]
[]
[]
[]
[]
[]
[]
[]
[]
[]
[]
[]
[]
[]
[]
[]
[]
[]
[]
[]
[]
[]
[]
[]
[]
[]
[]
[]
[]
[]
[]
[]
[]
[]
[]
[]
[]
[]
[]
[]
[]
[]
[null,null,null,null,null,null,null,null,null,null,null,null,null,null,null,null,null,null,null,null,null,null,null,null,null,null,null,null,null,null,null,null,null,null,null,null,null,null,null,null,null,null,null,null,null,null,null,null,null,null,null,null,null,null,null,"asdsad"]

{"sheet":"Sheet1","index":1,"n_rows":222,"n_cols":3,"rows_kept":222,"cut":false,"hidden":false,"merged":[]}
[null,"Birth Date","Hire Date"]
[null,"1951-02-16","2008-04-18"]
[null,"1951-05-28","2006-05-17"]
[null,"1971-07-16","2009-11-24"]
[null,"1951-12-16","2007-04-16"]
[null,"1954-07-05","2009-11-14"]
[null,"1953-03-02","2006-10-21"]
[null,"1953-07-18","2009-09-07"]
[null,"1953-12-24","2008-02-06"]
[null,"1954-01-13","2005-03-11"]
[null,"1954-02-09","2007-06-29"]
[null,"1957-03-15","2005-08-16"]
[null,"1984-05-05","2009-11-13"]
[null,"1954-10-02","2009-03-14"]
[null,"1955-02-01","2005-12-20"]
[null,"1955-04-21","2009-04-24"]
[null,"1956-01-27","2009-03-17"]
[null,"1956-05-09","2007-05-03"]
[null,"1956-06-07","2008-01-30"]
[null,"1956-11-01","2009-02-08"]
[null,"1956-12-19","2005-09-27"]
[null,"1956-12-22","2008-02-23"]
[null,"1957-01-09","2009-12-11"]
[null,"1954-03-11","2006-09-07"]
[null,"1957-03-01","2007-01-11"]
[null,"1957-03-28","2008-12-05"]
[null,"1957-05-02","2009-05-16"]
[null,"1957-09-08","2005-06-10"]
[null,"1957-10-01","2008-06-12"]
[null,"1957-10-19","2009-06-28"]
[null,"1978-01-08","2009-11-08"]
[null,"1958-03-19","2009-10-05"]
[null,"1958-05-23","2008-08-06"]
[null,"1984-08-08","2009-11-07"]
[null,"1958-09-22","2008-02-15"]
[null,"1958-09-26","2005-01-06"]
[null,"1959-08-13","2008-12-18"]
[null,"1960-03-13","2006-01-25"]
[null,"1961-02-03","2005-10-03"]
[null,"1961-10-15","2006-07-06"]
[null,"1961-12-10","2007-03-15"]
[null,"1962-04-17","2005-08-16"]
[null,"1962-05-23","2008-10-27"]
[null,"1958-06-15","2009-11-06"]
[null,"1993-08-16","2010-10-12"]
[null,"1962-12-02","2005-09-06"]
[null,"1963-04-28","2006-09-15"]
[null,"1963-11-15","2006-06-02"]
[null,"1964-02-26","2009-04-02"]
[null,"1964-09-12","2008-03-12"]
[null,"1964-11-01","2009-12-16"]
[null,"1964-11-08","2006-02-05"]
[null,"1965-01-25","2005-06-25"]
[null,"1965-02-05","2005-03-25"]
[null,"1965-10-13","2005-12-07"]
[null,"1951-06-30","2010-09-22"]
[null,"1966-07-09","2006-06-26"]
[null,"1966-07-20","2008-08-02"]
[null,"1966-08-25","2005-11-16"]
[null,"1966-11-18","2008-02-11"]
[null,"1966-11-26","2007-05-30"]
[null,"1986-06-02","2010-09-22"]
[null,"1967-04-03","2005-10-31"]
[null,"1967-07-23","2006-01-05"]
[null,"1967-08-11","2009-01-05"]
[null,"1968-03-02","2007-07-29"]
[null,"1968-04-01","2009-12-03"]
[null,"1968-04-12","2006-07-07"]
[null,"1968-05-09","2008-05-30"]
[null,"1968-08-20","2005-09-27"]
[null,"1966-02-23","2010-09-20"]
[null,"1969-03-03","2007-05-10"]
[null,"1969-06-20","2008-09-07"]
[null,"1969-08-02","2005-04-09"]
[null,"1969-12-12","2009-08-27"]
[null,"1970-04-11","2007-12-24"]
[null,"1970-08-21","2006-06-14"]
[null,"1970-10-14","2008-09-11"]
[null,"1971-04-19","2009-05-31"]
[null,"1971-06-20","2005-11-04"]
[null,"1971-06-24","2008-08-25"]
[null,"1994-09-30","2010-09-14"]
[null,"1971-08-01","2007-07-16"]
[null,"1971-12-24","2009-09-18"]
[null,"1972-04-13","2007-07-17"]
[null,"1972-06-17","2008-09-24"]
[null,"1972-07-30","2005-09-19"]
[null,"1972-08-08","2006-03-20"]
[null,"1994-10-24","2010-08-06"]
[null,"1972-11-03","2006-11-25"]
[null,"1973-01-13","2006-03-09"]
[null,"1973-05-08","2007-12-25"]
[null,"1973-10-20","2009-03-28"]
[null,"1973-11-16","2006-01-11"]
[null,"1973-12-27","2006-12-03"]
[null,"1974-06-11","2006-12-29"]
[null,"1974-06-28","2007-12-30"]
[null,"1974-08-28","2006-10-11"]
[null,"1974-10-03","2006-06-02"]
[null,"1974-10-10","2006-02-12"]
[null,"1975-01-29","2006-04-18"]
[null,"1975-03-25","2009-09-28"]
[null,"1975-08-17","2006-01-03"]
[null,"1975-12-08","2010-07-18"]
[null,"1975-12-31","2009-08-22"]
[null,"1976-03-17","2008-03-22"]
[null,"1976-04-01","2008-01-08"]
[null,"1976-05-20","2006-04-04"]
[null,"1976-06-13","2008-11-27"]
[null,"1976-08-30","2005-12-08"]
[null,"1977-03-29","2006-07-19"]
[null,"1977-11-20","2006-04-21"]
[null,"1977-11-23","2008-04-22"]
[null,"1977-12-21","2005-11-23"]
[null,"1978-01-02","2006-06-12"]
[null,"1983-10-28","2010-07-03"]
[null,"1978-05-08","2008-10-10"]
[null,"1962-10-06","2010-07-02"]
[null,"1978-10-10","2009-11-24"]
[null,"1978-10-13","2009-02-23"]
[null,"1978-12-07","2005-11-18"]
[null,"1979-01-07","2008-03-24"]
[null,"1979-01-29","2010-06-24"]
[null,"1979-02-21","2006-10-26"]
[null,"1979-08-16","2007-10-15"]
[null,"1979-09-30","2009-07-13"]
[null,"1979-10-12","2009-04-12"]
[null,"1979-12-18","2006-07-24"]
[null,"1958-03-12","2010-06-19"]
[null,"1980-06-18","2007-03-25"]
[null,"1980-07-02","2006-03-23"]
[null,"1980-10-03","2005-01-01"]
[null,"1980-12-11","2009-05-26"]
[null,"1981-02-11","2005-10-30"]
[null,"1981-07-03","2006-01-02"]
[null,"1981-10-22","2005-10-13"]
[null,"1980-05-21","2010-06-10"]
[null,"1981-11-03","2009-02-01"]
[null,"1981-11-26","2008-07-31"]
[null,"1981-12-01","2006-09-04"]
[null,"1982-01-29","2008-12-20"]
[null,"1982-02-02","2006-04-07"]
[null,"1982-07-31","2010-06-09"]
[null,"1982-09-06","2005-05-16"]
[null,"1983-08-05","2009-06-20"]
[null,"1962-05-25","2010-06-05"]
[null,"1983-09-29","2006-08-08"]
[null,"1983-10-03","2009-05-28"]
[null,"1986-07-07","2010-05-15"]
[null,"1983-11-04","2006-08-24"]
[null,"1983-11-27","2006-07-16"]
[null,"1983-12-31","2007-09-26"]
[null,"1978-09-13","2010-05-10"]
[null,"1984-06-18","2008-04-03"]
[null,"1984-06-28","2007-03-15"]
[null,"1984-07-28","2005-12-29"]
[null,"1952-12-25","2010-04-28"]
[null,"1984-10-27","2009-01-30"]
[null,"1985-02-08","2006-10-22"]
[null,"1985-07-11","2009-01-30"]
[null,"1985-07-27","2006-02-15"]
[null,"1985-12-17","2007-07-02"]
[null,"1986-02-12","2008-08-04"]
[null,"1986-05-07","2006-06-22"]
[null,"1967-01-04","2010-04-05"]
[null,"1983-08-29","2010-03-01"]
[null,"1986-09-04","2007-12-14"]
[null,"1986-09-30","2006-04-18"]
[null,"1981-10-24","2010-02-21"]
[null,"1986-12-19","2006-11-18"]
[null,"1987-06-25","2006-01-16"]
[null,"1987-07-13","2005-02-01"]
[null,"1968-12-30","2010-02-14"]
[null,"1987-12-16","2009-05-14"]
[null,"1987-12-19","2005-06-17"]
[null,"1993-04-19","2010-02-06"]
[null,"1988-07-15","2005-04-08"]
[null,"1988-08-04","2008-09-02"]
[null,"1988-12-01","2006-03-12"]
[null,"1989-01-28","2005-05-01"]
[null,"1989-03-07","2006-12-23"]
[null,"1989-12-23","2006-03-22"]
[null,"1990-02-06","2007-03-02"]
[null,"1990-06-03","2009-05-25"]
[null,"1990-06-26","2008-11-22"]
[null,"1990-07-31","2005-10-12"]
[null,"1990-08-20","2005-08-16"]
[null,"1990-09-25","2006-06-21"]
[null,"1991-11-10","2009-07-19"]
[null,"1992-02-04","2008-03-25"]
[null,"1992-03-25","2005-07-16"]
[null,"1992-05-03","2005-07-18"]
[null,"1992-10-25","2006-03-15"]
[null,"1992-11-18","2006-06-21"]
[null,"1992-12-19","2006-10-21"]
[null,"1992-12-25","2006-09-19"]
[null,"1993-01-19","2006-01-21"]
[null,"1993-03-04","2007-11-13"]
[null,"1988-04-13","2010-01-17"]
[null,"1993-04-21","2008-07-19"]
[null,"1993-06-05","2006-09-26"]
[null,"1993-06-05","2009-02-04"]
[null,"1993-07-21","2009-04-13"]
[null,"1993-08-11","2007-03-05"]
[null,"1986-11-17","2010-01-16"]
[null,"1993-09-16","2007-02-17"]
[null,"1993-09-20","2007-03-07"]
[null,"1994-01-22","2008-10-17"]
[null,"1994-02-17","2007-07-16"]
[null,"1994-05-26","2007-05-25"]
[null,"1994-08-19","2007-11-25"]
[null,"1994-09-07","2007-11-17"]
[null,"1994-09-09","2009-04-03"]
[null,"1987-08-01","2010-01-16"]
[null,"1972-10-31","2010-01-03"]
[null,"1989-04-04","2002-09-17"]
[null,"1989-04-06","2002-09-01"]
[null,"1989-06-22","2003-08-09"]
[null,"1990-04-21","1999-01-09"]
[null,"1990-10-08","2004-08-18"]
[null,"1991-01-02","2004-05-17"]
[null,"1991-04-24","2004-10-27"]

{"sheet":"Sheet2","index":2,"n_rows":19,"n_cols":2,"rows_kept":19,"cut":false,"hidden":false,"merged":[]}
["Department","Salary"]
["Engineering Count",13]
["Engineering Subtotal",464000]
["Finance Count",32]
["Finance Subtotal",1117000]
["Human Resources Count",14]
["Human Resources Subtotal",517300]
["Marketing Count",20]
["Marketing Subtotal",707100]
["Production Count",125]
["Production Subtotal",4297300]
["R&D Count",3]
["R&D Subtotal",125300]
["Sales Count",9]
["Sales Subtotal",335300]
["Shipping Count",5]
["Grand Count",221]
["Shipping Subtotal",158800]
["Grand Total",7722100]